{"text_format":"1","workbook":"xlsx","n_sheets":3,"sheets":["入力シート","変換後CSV","使い方"],"not_rendered":{"charts":0,"images":6,"macros":1,"external_links":0,"defined_names":0,"comments":1,"pivot_tables":0},"unopened":[],"bounds":{"document_bytes":16777216,"sheet_cells":100000,"rows_first":2000,"rows_last":500,"rows_between":2000,"halvings":0,"cell_chars":16384,"cell_head_chars":4096},"cells_cut":0,"cells_raw":0,"read":"whole","date_system":"1900"}

{"sheet":"入力シート","index":0,"n_rows":382,"n_cols":34,"rows_kept":382,"cut":false,"hidden":false,"merged":[[115,1,115,3],[115,4,115,7],[115,10,115,12],[115,13,117,31],[104,2,105,2],[104,3,105,29],[86,2,89,30],[91,28,91,30],[104,33,105,34],[109,2,110,2],[109,3,110,29],[109,33,110,34],[94,2,95,2],[94,3,95,29],[94,33,95,34],[99,2,100,2],[99,3,100,29],[99,33,100,34],[82,1,82,4],[82,5,82,22],[82,28,82,30],[44,1,44,4],[44,5,44,22],[44,28,44,30],[61,2,62,2],[61,3,62,29],[77,1,77,3],[77,4,77,7],[77,10,77,12],[77,13,79,31],[82,31,82,34],[71,2,72,2],[71,3,72,29],[71,33,72,34],[44,31,44,34],[48,2,51,30],[53,28,53,30],[56,2,57,2],[56,3,57,29],[56,33,57,34],[2,23,2,25],[2,26,2,29],[66,3,67,29],[66,33,67,34],[15,28,15,30],[18,2,19,2],[18,3,19,29],[18,33,19,34],[23,2,24,2],[23,3,24,29],[23,33,24,34],[39,13,41,31],[28,2,29,2],[120,1,120,4],[120,5,120,22],[120,28,120,30],[120,31,120,34],[124,2,127,30],[2,5,2,7],[2,8,2,11],[39,1,39,3],[39,4,39,7],[39,10,39,12],[6,1,6,4],[6,5,6,22],[2,14,2,16],[2,17,2,20],[28,3,29,29],[28,33,29,34],[33,2,34,2],[33,3,34,29],[33,33,34,34],[6,28,6,30],[6,31,6,34],[10,2,13,30],[61,33,62,34],[66,2,67,2],[142,2,143,2],[142,3,143,29],[142,33,143,34],[147,2,148,2],[147,3,148,29],[147,33,148,34],[129,28,129,30],[132,2,133,2],[132,3,133,29],[132,33,133,34],[137,2,138,2],[137,3,138,29],[137,33,138,34],[162,2,165,30],[167,28,167,30],[170,2,171,2],[170,3,171,29],[170,33,171,34],[153,1,153,3],[153,4,153,7],[153,10,153,12],[153,13,155,31],[158,1,158,4],[158,5,158,22],[158,28,158,30],[158,31,158,34],[185,2,186,2],[185,3,186,29],[185,33,186,34],[191,1,191,3],[191,4,191,7],[191,10,191,12],[191,13,193,31],[175,2,176,2],[175,3,176,29],[175,33,176,34],[180,2,181,2],[180,3,181,29],[180,33,181,34],[205,28,205,30],[208,2,209,2],[208,3,209,29],[208,33,209,34],[213,2,214,2],[213,3,214,29],[213,33,214,34],[196,1,196,4],[196,5,196,22],[196,28,196,30],[196,31,196,34],[200,2,203,30],[229,1,229,3],[229,4,229,7],[229,10,229,12],[229,13,231,31],[234,1,234,4],[234,5,234,22],[234,28,234,30],[234,31,234,34],[218,2,219,2],[218,3,219,29],[218,33,219,34],[223,2,224,2],[223,3,224,29],[223,33,224,34],[251,2,252,2],[251,3,252,29],[251,33,252,34],[256,2,257,2],[256,3,257,29],[256,33,257,34],[238,2,241,30],[243,28,243,30],[246,2,247,2],[246,3,247,29],[246,33,247,34],[272,1,272,4],[272,5,272,22],[272,28,272,30],[272,31,272,34],[276,2,279,30],[261,2,262,2],[261,3,262,29],[261,33,262,34],[267,1,267,3],[267,4,267,7],[267,10,267,12],[267,13,269,31],[294,2,295,2],[294,3,295,29],[294,33,295,34],[299,2,300,2],[299,3,300,29],[299,33,300,34],[281,28,281,30],[284,2,285,2],[284,3,285,29],[284,33,285,34],[289,2,290,2],[289,3,290,29],[289,33,290,34],[314,2,317,30],[319,28,319,30],[322,2,323,2],[322,3,323,29],[322,33,323,34],[305,1,305,3],[305,4,305,7],[305,10,305,12],[305,13,307,31],[310,1,310,4],[310,5,310,22],[310,28,310,30],[310,31,310,34],[337,2,338,2],[337,3,338,29],[337,33,338,34],[343,1,343,3],[343,4,343,7],[343,10,343,12],[343,13,345,31],[327,2,328,2],[327,3,328,29],[327,33,328,34],[332,2,333,2],[332,3,333,29],[332,33,333,34],[357,28,357,30],[360,2,361,2],[360,3,361,29],[360,33,361,34],[365,2,366,2],[365,3,366,29],[365,33,366,34],[348,1,348,4],[348,5,348,22],[348,28,348,30],[348,31,348,34],[352,2,355,30],[381,1,381,3],[381,4,381,7],[381,10,381,12],[381,13,383,31],[370,2,371,2],[370,3,371,29],[370,33,371,34],[375,2,376,2],[375,3,376,29],[375,33,376,34]]}
["問題簡単登録シート"]
[]
[null,"【基本情報】",null,null,null,"セクションID：",null,null,null,null,null,null,null,null,"講座ID：",null,null,null,null,null,null,null,null,"講義ID："]
[]
[]
[]
[1,"問題タイトル：",null,null,null,"サンプル問題１",null,null,null,null,null,null,null,null,null,null,null,null,null,null,null,null,null,"（20文字まで）",null,null,null,null,"問題種類：",null,null,"単一回答"]
[null,"※注意！　問題タイトルは一度に登録する問題について、それぞれの問題で違う名前を付してください。"]
[]
[]
[null,null,"2016年の干支はなんでしょうか？次の中から選びなさい。"]
[]
[]
[]
[]
[null,null,"回答欄",null,null,null,null,null,null,null,null,null,null,null,null,null,null,null,null,null,null,null,null,null,null,null,null,null,"ヒント"]
[null,null,{"$f":"IF(AF7=\"単一回答\",\"（次の中から正答と思われるものを1つ選択して解答ボタンをクリックしてください。）\",\"（次の中から正答と思われるものをすべて選択して解答ボタンをクリックしてください。）\")","v":"（次の中から正答と思われるものを1つ選択して解答ボタンをクリックしてください。）"}]
[]
[null,null,{"$f":"IF(AF7=\"単一回答\",\"○\",\"□\")","v":"○"},"さる",null,null,null,null,null,null,null,null,null,null,null,null,null,null,null,null,null,null,null,null,null,null,null,null,null,null,null,null,null,"正答"]
[]
[]
[]
[]
[null,null,{"$f":"IF(AF7=\"単一回答\",\"○\",\"□\")","v":"○"},"いぬ",null,null,null,null,null,null,null,null,null,null,null,null,null,null,null,null,null,null,null,null,null,null,null,null,null,null,null,null,null,"誤答"]
[]
[]
[]
[]
[null,null,{"$f":"IF(AF7=\"単一回答\",\"○\",\"□\")","v":"○"},"ねずみ",null,null,null,null,null,null,null,null,null,null,null,null,null,null,null,null,null,null,null,null,null,null,null,null,null,null,null,null,null,"誤答"]
[]
[]
[]
[]
[null,null,{"$f":"IF(AF7=\"単一回答\",\"○\",\"□\")","v":"○"},"いのしし",null,null,null,null,null,null,null,null,null,null,null,null,null,null,null,null,null,null,null,null,null,null,null,null,null,null,null,null,null,"誤答"]
[]
[]
[]
[]
[]
[null,"ヒント機能：",null,null,"利用しない",null,null,null,null,null,"ヒント内容：",null,null,"ヒント機能を利用する場合必ず入力"]
[]
[]
[]
[]
[1,"問題タイトル：",null,null,null,"サンプル問題2",null,null,null,null,null,null,null,null,null,null,null,null,null,null,null,null,null,"（20文字まで）",null,null,null,null,"問題種類：",null,null,"単一回答"]
[null,"※注意！　問題タイトルは一度に登録する問題について、それぞれの問題で違う名前を付してください。"]
[]
[]
[null,null,"E-learningASPの製品ロゴは次のうちのどれか、正しいものを選びなさい。"]
[]
[]
[]
[]
[null,null,"回答欄",null,null,null,null,null,null,null,null,null,null,null,null,null,null,null,null,null,null,null,null,null,null,null,null,null,"ヒント"]
[null,null,{"$f":"IF(AF45=\"単一回答\",\"（次の中から正答と思われるものを1つ選択して解答ボタンをクリックしてください。）\",\"（次の中から正答と思われるものをすべて選択して解答ボタンをクリックしてください。）\")","v":"（次の中から正答と思われるものを1つ選択して解答ボタンをクリックしてください。）"}]
[]
[null,null,{"$f":"IF(AF45=\"単一回答\",\"○\",\"□\")","v":"○"},"ロゴ1",null,null,null,null,null,null,null,null,null,null,null,null,null,null,null,null,null,null,null,null,null,null,null,null,null,null,null,null,null,"正答"]
[]
[]
[]
[]
[null,null,{"$f":"IF(AF45=\"単一回答\",\"○\",\"□\")","v":"○"},"ロゴ2",null,null,null,null,null,null,null,null,null,null,null,null,null,null,null,null,null,null,null,null,null,null,null,null,null,null,null,null,null,"誤答"]
[]
[]
[]
[]
[null,null,{"$f":"IF(AF45=\"単一回答\",\"○\",\"□\")","v":"○"},"ロゴ3",null,null,null,null,null,null,null,null,null,null,null,null,null,null,null,null,null,null,null,null,null,null,null,null,null,null,null,null,null,"誤答"]
[]
[]
[]
[]
[null,null,{"$f":"IF(AF45=\"単一回答\",\"○\",\"□\")","v":"○"},"ロゴ4",null,null,null,null,null,null,null,null,null,null,null,null,null,null,null,null,null,null,null,null,null,null,null,null,null,null,null,null,null,"誤答"]
[]
[]
[]
[]
[]
[null,"ヒント機能：",null,null,"利用しない",null,null,null,null,null,"ヒント内容：",null,null,"ヒント機能を利用する場合必ず入力"]
[]
[]
[]
[]
[1,"問題タイトル：",null,null,null,"サンプル問題3",null,null,null,null,null,null,null,null,null,null,null,null,null,null,null,null,null,"（20文字まで）",null,null,null,null,"問題種類：",null,null,"複数回答"]
[null,"※注意！　問題タイトルは一度に登録する問題について、それぞれの問題で違う名前を付してください。"]
[]
[]
[null,null,"次の中から、実際にあることわざをすべて選びなさい。"]
[]
[]
[]
[]
[null,null,"回答欄",null,null,null,null,null,null,null,null,null,null,null,null,null,null,null,null,null,null,null,null,null,null,null,null,null,"ヒント"]
[null,null,{"$f":"IF(AF83=\"単一回答\",\"（次の中から正答と思われるものを1つ選択して解答ボタンをクリックしてください。）\",\"（次の中から正答と思われるものをすべて選択して解答ボタンをクリックしてください。）\")","v":"（次の中から正答と思われるものをすべて選択して解答ボタンをクリックしてください。）"}]
[]
[null,null,{"$f":"IF(AF83=\"単一回答\",\"○\",\"□\")","v":"□"},"犬に小判",null,null,null,null,null,null,null,null,null,null,null,null,null,null,null,null,null,null,null,null,null,null,null,null,null,null,null,null,null,"正答"]
[]
[]
[]
[]
[null,null,{"$f":"IF(AF83=\"単一回答\",\"○\",\"□\")","v":"□"},"犬も歩けば棒にあたる",null,null,null,null,null,null,null,null,null,null,null,null,null,null,null,null,null,null,null,null,null,null,null,null,null,null,null,null,null,"正答"]
[]
[]
[]
[]
[null,null,{"$f":"IF(AF83=\"単一回答\",\"○\",\"□\")","v":"□"},"サルも木から落ちる",null,null,null,null,null,null,null,null,null,null,null,null,null,null,null,null,null,null,null,null,null,null,null,null,null,null,null,null,null,"正答"]
[]
[]
[]
[]
[null,null,{"$f":"IF(AF83=\"単一回答\",\"○\",\"□\")","v":"□"},"聖徳太子にも筆の誤り",null,null,null,null,null,null,null,null,null,null,null,null,null,null,null,null,null,null,null,null,null,null,null,null,null,null,null,null,null,"誤答"]
[]
[]
[]
[]
[]
[null,"ヒント機能：",null,null,"利用しない",null,null,null,null,null,"ヒント内容：",null,null,"ヒント機能を利用する場合必ず入力"]
[]
[]
[]
[]
[1,"問題タイトル：",null,null,null,"サンプル問題4",null,null,null,null,null,null,null,null,null,null,null,null,null,null,null,null,null,"（20文字まで）",null,null,null,null,"問題種類：",null,null,"単一回答"]
[null,"※注意！　問題タイトルは一度に登録する問題について、それぞれの問題で違う名前を付してください。"]
[]
[]
[null,null,"上記図の「A」にはいる機能名を答えなさい"]
[]
[]
[]
[]
[null,null,"回答欄",null,null,null,null,null,null,null,null,null,null,null,null,null,null,null,null,null,null,null,null,null,null,null,null,null,"ヒント"]
[null,null,{"$f":"IF(AF121=\"単一回答\",\"（次の中から正答と思われるものを1つ選択して解答ボタンをクリックしてください。）\",\"（次の中から正答と思われるものをすべて選択して解答ボタンをクリックしてください。）\")","v":"（次の中から正答と思われるものを1つ選択して解答ボタンをクリックしてください。）"}]
[]
[null,null,{"$f":"IF(AF121=\"単一回答\",\"○\",\"□\")","v":"○"},"受講者登録",null,null,null,null,null,null,null,null,null,null,null,null,null,null,null,null,null,null,null,null,null,null,null,null,null,null,null,null,null,"誤答"]
[]
[]
[]
[]
[null,null,{"$f":"IF(AF121=\"単一回答\",\"○\",\"□\")","v":"○"},"講義登録",null,null,null,null,null,null,null,null,null,null,null,null,null,null,null,null,null,null,null,null,null,null,null,null,null,null,null,null,null,"誤答"]
[]
[]
[]
[]
[null,null,{"$f":"IF(AF121=\"単一回答\",\"○\",\"□\")","v":"○"},"講師登録",null,null,null,null,null,null,null,null,null,null,null,null,null,null,null,null,null,null,null,null,null,null,null,null,null,null,null,null,null,"正答"]
[]
[]
[]
[]
[null,null,{"$f":"IF(AF121=\"単一回答\",\"○\",\"□\")","v":"○"},"講座削除",null,null,null,null,null,null,null,null,null,null,null,null,null,null,null,null,null,null,null,null,null,null,null,null,null,null,null,null,null,"誤答"]
[]
[]
[]
[]
[]
[null,"ヒント機能：",null,null,"利用しない",null,null,null,null,null,"ヒント内容：",null,null,"ヒント機能を利用する場合必ず入力"]
[]
[]
[]
[]
[1,"問題タイトル：",null,null,null,"サンプル問題5",null,null,null,null,null,null,null,null,null,null,null,null,null,null,null,null,null,"（20文字まで）",null,null,null,null,"問題種類：",null,null,"複数回答"]
[null,"※注意！　問題タイトルは一度に登録する問題について、それぞれの問題で違う名前を付してください。"]
[]
[]
[null,null,"講師機能について、以下から正しい文言をすべて選択しなさい"]
[]
[]
[]
[]
[null,null,"回答欄",null,null,null,null,null,null,null,null,null,null,null,null,null,null,null,null,null,null,null,null,null,null,null,null,null,"ヒント"]
[null,null,{"$f":"IF(AF159=\"単一回答\",\"（次の中から正答と思われるものを1つ選択して解答ボタンをクリックしてください。）\",\"（次の中から正答と思われるものをすべて選択して解答ボタンをクリックしてください。）\")","v":"（次の中から正答と思われるものをすべて選択して解答ボタンをクリックしてください。）"}]
[]
[null,null,{"$f":"IF(AF159=\"単一回答\",\"○\",\"□\")","v":"□"},"受講者は、講師を選択せずに問い合わせをすることができる。その際には、その受講者と講座を担当している講師全員に回答権限が与えられる。",null,null,null,null,null,null,null,null,null,null,null,null,null,null,null,null,null,null,null,null,null,null,null,null,null,null,null,null,null,"正答"]
[]
[]
[]
[]
[null,null,{"$f":"IF(AF159=\"単一回答\",\"○\",\"□\")","v":"□"},"講師ができるのは、担当している受講者の問い合わせに対して回答することのみである。",null,null,null,null,null,null,null,null,null,null,null,null,null,null,null,null,null,null,null,null,null,null,null,null,null,null,null,null,null,"誤答"]
[]
[]
[]
[]
[null,null,{"$f":"IF(AF159=\"単一回答\",\"○\",\"□\")","v":"□"},"講師アカウントは、受講者アカウントの数より多くは作成することができない。",null,null,null,null,null,null,null,null,null,null,null,null,null,null,null,null,null,null,null,null,null,null,null,null,null,null,null,null,null,"誤答"]
[]
[]
[]
[]
[null,null,{"$f":"IF(AF159=\"単一回答\",\"○\",\"□\")","v":"□"},"講師アカウントで、受講者サイトにログインすることはできない。",null,null,null,null,null,null,null,null,null,null,null,null,null,null,null,null,null,null,null,null,null,null,null,null,null,null,null,null,null,"正答"]
[]
[]
[]
[]
[]
[null,"ヒント機能：",null,null,"利用しない",null,null,null,null,null,"ヒント内容：",null,null,"ヒント機能を利用する場合必ず入力"]
[]
[]
[]
[]
[1,"問題タイトル：",null,null,null,"サンプル問題6",null,null,null,null,null,null,null,null,null,null,null,null,null,null,null,null,null,"（20文字まで）",null,null,null,null,"問題種類：",null,null,"複数回答"]
[null,"※注意！　問題タイトルは一度に登録する問題について、それぞれの問題で違う名前を付してください。"]
[]
[]
[null,null,"次の中から、受講者サイトのメニューになっているものをすべて選びなさい"]
[]
[]
[]
[]
[null,null,"回答欄",null,null,null,null,null,null,null,null,null,null,null,null,null,null,null,null,null,null,null,null,null,null,null,null,null,"ヒント"]
[null,null,{"$f":"IF(AF197=\"単一回答\",\"（次の中から正答と思われるものを1つ選択して解答ボタンをクリックしてください。）\",\"（次の中から正答と思われるものをすべて選択して解答ボタンをクリックしてください。）\")","v":"（次の中から正答と思われるものをすべて選択して解答ボタンをクリックしてください。）"}]
[]
[null,null,{"$f":"IF(AF197=\"単一回答\",\"○\",\"□\")","v":"□"},"講座を受講する",null,null,null,null,null,null,null,null,null,null,null,null,null,null,null,null,null,null,null,null,null,null,null,null,null,null,null,null,null,"正答"]
[]
[]
[]
[]
[null,null,{"$f":"IF(AF197=\"単一回答\",\"○\",\"□\")","v":"□"},"受講状況確認",null,null,null,null,null,null,null,null,null,null,null,null,null,null,null,null,null,null,null,null,null,null,null,null,null,null,null,null,null,"正答"]
[]
[]
[]
[]
[null,null,{"$f":"IF(AF197=\"単一回答\",\"○\",\"□\")","v":"□"},"パスワード変更",null,null,null,null,null,null,null,null,null,null,null,null,null,null,null,null,null,null,null,null,null,null,null,null,null,null,null,null,null,"誤答"]
[]
[]
[]
[]
[null,null,{"$f":"IF(AF197=\"単一回答\",\"○\",\"□\")","v":"□"},"退会",null,null,null,null,null,null,null,null,null,null,null,null,null,null,null,null,null,null,null,null,null,null,null,null,null,null,null,null,null,"正答"]
[]
[]
[]
[]
[]
[null,"ヒント機能：",null,null,"利用しない",null,null,null,null,null,"ヒント内容：",null,null,"ヒント機能を利用する場合必ず入力"]
[]
[]
[]
[]
[1,"問題タイトル：",null,null,null,"サンプル問題7",null,null,null,null,null,null,null,null,null,null,null,null,null,null,null,null,null,"（20文字まで）",null,null,null,null,"問題種類：",null,null,"単一回答"]
[null,"※注意！　問題タイトルは一度に登録する問題について、それぞれの問題で違う名前を付してください。"]
[]
[]
[null,null,"ASP基本設定について、以下から正しい文言を1つ選択しなさい"]
[]
[]
[]
[]
[null,null,"回答欄",null,null,null,null,null,null,null,null,null,null,null,null,null,null,null,null,null,null,null,null,null,null,null,null,null,"ヒント"]
[null,null,{"$f":"IF(AF235=\"単一回答\",\"（次の中から正答と思われるものを1つ選択して解答ボタンをクリックしてください。）\",\"（次の中から正答と思われるものをすべて選択して解答ボタンをクリックしてください。）\")","v":"（次の中から正答と思われるものを1つ選択して解答ボタンをクリックしてください。）"}]
[]
[null,null,{"$f":"IF(AF235=\"単一回答\",\"○\",\"□\")","v":"○"},"ASP基本設定では、サイトのロゴやデザインなどを変更することはできない",null,null,null,null,null,null,null,null,null,null,null,null,null,null,null,null,null,null,null,null,null,null,null,null,null,null,null,null,null,"誤答"]
[]
[]
[]
[]
[null,null,{"$f":"IF(AF235=\"単一回答\",\"○\",\"□\")","v":"○"},"システム自動通知メールの送信元アドレスの指定ができる。この指定は当社のドメイン「c-streaming.net」以外で設定することもできる。",null,null,null,null,null,null,null,null,null,null,null,null,null,null,null,null,null,null,null,null,null,null,null,null,null,null,null,null,null,"正答"]
[]
[]
[]
[]
[null,null,{"$f":"IF(AF235=\"単一回答\",\"○\",\"□\")","v":"○"},"スマホサイトとPCサイトのロゴを別々に設定することができる",null,null,null,null,null,null,null,null,null,null,null,null,null,null,null,null,null,null,null,null,null,null,null,null,null,null,null,null,null,"誤答"]
[]
[]
[]
[]
[null,null,{"$f":"IF(AF235=\"単一回答\",\"○\",\"□\")","v":"○"},"サイトのカラーリングを3種類から選択することができる",null,null,null,null,null,null,null,null,null,null,null,null,null,null,null,null,null,null,null,null,null,null,null,null,null,null,null,null,null,"誤答"]
[]
[]
[]
[]
[]
[null,"ヒント機能：",null,null,"利用しない",null,null,null,null,null,"ヒント内容：",null,null,"ヒント機能を利用する場合必ず入力"]
[]
[]
[]
[]
[1,"問題タイトル：",null,null,null,"サンプル問題8",null,null,null,null,null,null,null,null,null,null,null,null,null,null,null,null,null,"（20文字まで）",null,null,null,null,"問題種類：",null,null,"単一回答"]
[null,"※注意！　問題タイトルは一度に登録する問題について、それぞれの問題で違う名前を付してください。"]
[]
[]
[null,null,"講座登録について、以下から正しい文言を1つ選択しなさい"]
[]
[]
[]
[]
[null,null,"回答欄",null,null,null,null,null,null,null,null,null,null,null,null,null,null,null,null,null,null,null,null,null,null,null,null,null,"ヒント"]
[null,null,{"$f":"IF(AF273=\"単一回答\",\"（次の中から正答と思われるものを1つ選択して解答ボタンをクリックしてください。）\",\"（次の中から正答と思われるものをすべて選択して解答ボタンをクリックしてください。）\")","v":"（次の中から正答と思われるものを1つ選択して解答ボタンをクリックしてください。）"}]
[]
[null,null,{"$f":"IF(AF273=\"単一回答\",\"○\",\"□\")","v":"○"},"登録した講義を削除することはできない",null,null,null,null,null,null,null,null,null,null,null,null,null,null,null,null,null,null,null,null,null,null,null,null,null,null,null,null,null,"誤答"]
[]
[]
[]
[]
[null,null,{"$f":"IF(AF273=\"単一回答\",\"○\",\"□\")","v":"○"},"受講期限日を設定することはできない",null,null,null,null,null,null,null,null,null,null,null,null,null,null,null,null,null,null,null,null,null,null,null,null,null,null,null,null,null,"誤答"]
[]
[]
[]
[]
[null,null,{"$f":"IF(AF273=\"単一回答\",\"○\",\"□\")","v":"○"},"講義の受講回数を特定の回数に指定することはできない",null,null,null,null,null,null,null,null,null,null,null,null,null,null,null,null,null,null,null,null,null,null,null,null,null,null,null,null,null,"正答"]
[]
[]
[]
[]
[null,null,{"$f":"IF(AF273=\"単一回答\",\"○\",\"□\")","v":"○"},"受講期限日のX日前まで受講完了していない者に、催促メールを送信することはできない",null,null,null,null,null,null,null,null,null,null,null,null,null,null,null,null,null,null,null,null,null,null,null,null,null,null,null,null,null,"誤答"]
[]
[]
[]
[]
[]
[null,"ヒント機能：",null,null,"利用しない",null,null,null,null,null,"ヒント内容：",null,null,"ヒント機能を利用する場合必ず入力"]
[]
[]
[]
[]
[1,"問題タイトル：",null,null,null,"サンプル問題9",null,null,null,null,null,null,null,null,null,null,null,null,null,null,null,null,null,"（20文字まで）",null,null,null,null,"問題種類：",null,null,"単一回答"]
[null,"※注意！　問題タイトルは一度に登録する問題について、それぞれの問題で違う名前を付してください。"]
[]
[]
[null,null,"E-learningASPに動画として投稿することができない拡張子を以下から１つ選択しなさい"]
[]
[]
[]
[]
[null,null,"回答欄",null,null,null,null,null,null,null,null,null,null,null,null,null,null,null,null,null,null,null,null,null,null,null,null,null,"ヒント"]
[null,null,{"$f":"IF(AF311=\"単一回答\",\"（次の中から正答と思われるものを1つ選択して解答ボタンをクリックしてください。）\",\"（次の中から正答と思われるものをすべて選択して解答ボタンをクリックしてください。）\")","v":"（次の中から正答と思われるものを1つ選択して解答ボタンをクリックしてください。）"}]
[]
[null,null,{"$f":"IF(AF311=\"単一回答\",\"○\",\"□\")","v":"○"},"jpg",null,null,null,null,null,null,null,null,null,null,null,null,null,null,null,null,null,null,null,null,null,null,null,null,null,null,null,null,null,"正答"]
[]
[]
[]
[]
[null,null,{"$f":"IF(AF311=\"単一回答\",\"○\",\"□\")","v":"○"},"mp4",null,null,null,null,null,null,null,null,null,null,null,null,null,null,null,null,null,null,null,null,null,null,null,null,null,null,null,null,null,"誤答"]
[]
[]
[]
[]
[null,null,{"$f":"IF(AF311=\"単一回答\",\"○\",\"□\")","v":"○"},"tiff",null,null,null,null,null,null,null,null,null,null,null,null,null,null,null,null,null,null,null,null,null,null,null,null,null,null,null,null,null,"誤答"]
[]
[]
[]
[]
[null,null,{"$f":"IF(AF311=\"単一回答\",\"○\",\"□\")","v":"○"},"f4v",null,null,null,null,null,null,null,null,null,null,null,null,null,null,null,null,null,null,null,null,null,null,null,null,null,null,null,null,null,"誤答"]
[]
[]
[]
[]
[]
[null,"ヒント機能：",null,null,"利用しない",null,null,null,null,null,"ヒント内容：",null,null,"ヒント機能を利用する場合必ず入力"]
[]
[]
[]
[]
[1,"問題タイトル：",null,null,null,"サンプル問題10",null,null,null,null,null,null,null,null,null,null,null,null,null,null,null,null,null,"（20文字まで）",null,null,null,null,"問題種類：",null,null,"単一回答"]
[null,"※注意！　問題タイトルは一度に登録する問題について、それぞれの問題で違う名前を付してください。"]
[]
[]
[null,null,"配信データ量40GB、問題出題数500問、スライドPV数1500pvの場合、ノーマルプランを選択した場合の月額料金(税抜き）を答えなさい。（ただし、無料分の繰り越しは存在しない、サブアカウントの利用はないものとする）"]
[]
[]
[]
[]
[null,null,"回答欄",null,null,null,null,null,null,null,null,null,null,null,null,null,null,null,null,null,null,null,null,null,null,null,null,null,"ヒント"]
[null,null,{"$f":"IF(AF349=\"単一回答\",\"（次の中から正答と思われるものを1つ選択して解答ボタンをクリックしてください。）\",\"（次の中から正答と思われるものをすべて選択して解答ボタンをクリックしてください。）\")","v":"（次の中から正答と思われるものを1つ選択して解答ボタンをクリックしてください。）"}]
[]
[null,null,{"$f":"IF(AF349=\"単一回答\",\"○\",\"□\")","v":"○"},"10,000円",null,null,null,null,null,null,null,null,null,null,null,null,null,null,null,null,null,null,null,null,null,null,null,null,null,null,null,null,null,"誤答"]
[]
[]
[]
[]
[null,null,{"$f":"IF(AF349=\"単一回答\",\"○\",\"□\")","v":"○"},"20,000円",null,null,null,null,null,null,null,null,null,null,null,null,null,null,null,null,null,null,null,null,null,null,null,null,null,null,null,null,null,"誤答"]
[]
[]
[]
[]
[null,null,{"$f":"IF(AF349=\"単一回答\",\"○\",\"□\")","v":"○"},"19,800円",null,null,null,null,null,null,null,null,null,null,null,null,null,null,null,null,null,null,null,null,null,null,null,null,null,null,null,null,null,"誤答"]
[]
[]
[]
[]
[null,null,{"$f":"IF(AF349=\"単一回答\",\"○\",\"□\")","v":"○"},"19,500円",null,null,null,null,null,null,null,null,null,null,null,null,null,null,null,null,null,null,null,null,null,null,null,null,null,null,null,null,null,"正答"]
[]
[]
[]
[]
[]
[null,"ヒント機能：",null,null,"利用しない",null,null,null,null,null,"ヒント内容：",null,null,"ヒント機能を利用する場合必ず入力"]

{"sheet":"変換後CSV","index":1,"n_rows":175,"n_cols":15,"rows_kept":175,"cut":false,"hidden":false,"merged":[]}
[]
[null,null,null,null,null,null,null,null,null,null,null,null,"非表示"]
[null,"セクションID","講座ID","講義ID","試験問題番号","試験問題区分","試験問題タイトル","試験問題内容","ヒント機能利用フラグ","ヒント内容","回答コメント表示フラグ","回答テキスト","正答","正答区分","回答コメント"]
[{"$f":"IF(MOD(ROW(),4)=0,INDIRECT(\"入力シート!A\"&7+((ROW()/4)-1)*38),A3)","v":1},{"$f":"IF(入力シート!$I$3=\"\",\"\",入力シート!$I$3)","v":""},{"$f":"IF(入力シート!$R$3=\"\",\"\",入力シート!$R$3)","v":""},{"$f":"IF(入力シート!$AA$3=\"\",\"\",入力シート!$AA$3)","v":""},null,{"$f":"IF(MOD(ROW(),4)=0,IF(INDIRECT(\"入力シート!AF\"&7+((ROW()/4)-1)*38)=\"単一回答\",\"0\",\"1\"),F3)","v":"0"},{"$f":"IF(MOD(ROW(),4)=0,INDIRECT(\"入力シート!F\"&7+((ROW()/4)-1)*38),G3)","v":"サンプル問題１"},{"$f":"IF(MOD(ROW(),4)=0,INDIRECT(\"入力シート!C\"&11+((ROW()/4)-1)*38),H3)","v":"2016年の干支はなんでしょうか？次の中から選びなさい。"},{"$f":"IF(MOD(ROW(),4)=0,IF(INDIRECT(\"入力シート!E\"&40+((ROW()/4)-1)*38)=\"利用する\",\"1\",\"0\"),I3)","v":"0"},{"$f":"IF(I4=\"1\",IF(MOD(ROW(),4)=0,INDIRECT(\"入力シート!N\"&40+((ROW()/4)-1)*38),J3),\"\")","v":""},0,{"$f":"IF(MOD(ROW(),4)=0,INDIRECT(\"入力シート!D\"&19+((ROW()/4)-1)*38),INDIRECT(\"入力シート!D\"&19+(ROUNDDOWN((ROW()/4)-1,0))*38+(MOD(ROW(),4)*5)))","v":"さる"},{"$f":"IF(MOD(ROW(),4)=0,INDIRECT(\"入力シート!AH\"&19+((ROW()/4)-1)*38),INDIRECT(\"入力シート!AH\"&19+(ROUNDDOWN((ROW()/4)-1,0))*38+(MOD(ROW(),4)*5)))","v":"正答"},{"$f":"IF(M4=\"正答\",\"1\",\"0\")","v":"1"},"2016年の干支はさるです。"]
[{"$f":"IF(MOD(ROW(),4)=0,INDIRECT(\"入力シート!A\"&7+((ROW()/4)-1)*38),A4)","v":1},{"$f":"IF(入力シート!$I$3=\"\",\"\",入力シート!$I$3)","v":""},{"$f":"IF(入力シート!$R$3=\"\",\"\",入力シート!$R$3)","v":""},{"$f":"IF(入力シート!$AA$3=\"\",\"\",入力シート!$AA$3)","v":""},null,"0","サンプル問題１","2016年の干支はなんでしょうか？次の中から選びなさい。","0","",0,"いぬ","誤答","0","次のいぬ年は2018年です。"]
[1,{"$f":"IF(入力シート!$I$3=\"\",\"\",入力シート!$I$3)","v":""},{"$f":"IF(入力シート!$R$3=\"\",\"\",入力シート!$R$3)","v":""},{"$f":"IF(入力シート!$AA$3=\"\",\"\",入力シート!$AA$3)","v":""},null,"0","サンプル問題１","2016年の干支はなんでしょうか？次の中から選びなさい。","0","",0,"ねずみ","誤答","0","次のねずみ年は2021年です。"]
[1,{"$f":"IF(入力シート!$I$3=\"\",\"\",入力シート!$I$3)","v":""},{"$f":"IF(入力シート!$R$3=\"\",\"\",入力シート!$R$3)","v":""},{"$f":"IF(入力シート!$AA$3=\"\",\"\",入力シート!$AA$3)","v":""},null,"0","サンプル問題１","2016年の干支はなんでしょうか？次の中から選びなさい。","0","",0,"いのしし","誤答","0","次のいのしし年は2020年です。"]
[1,{"$f":"IF(入力シート!$I$3=\"\",\"\",入力シート!$I$3)","v":""},{"$f":"IF(入力シート!$R$3=\"\",\"\",入力シート!$R$3)","v":""},{"$f":"IF(入力シート!$AA$3=\"\",\"\",入力シート!$AA$3)","v":""},null,"0","サンプル問題2","E-learningASPの製品ロゴは次のうちのどれか、正しいものを選びなさい。","0","",0,"ロゴ1","正答","1","正しいロゴです。"]
[1,{"$f":"IF(入力シート!$I$3=\"\",\"\",入力シート!$I$3)","v":""},{"$f":"IF(入力シート!$R$3=\"\",\"\",入力シート!$R$3)","v":""},{"$f":"IF(入力シート!$AA$3=\"\",\"\",入力シート!$AA$3)","v":""},null,"0","サンプル問題2","E-learningASPの製品ロゴは次のうちのどれか、正しいものを選びなさい。","0","",0,"ロゴ2","誤答","0","当社の会社ロゴです。"]
[1,{"$f":"IF(入力シート!$I$3=\"\",\"\",入力シート!$I$3)","v":""},{"$f":"IF(入力シート!$R$3=\"\",\"\",入力シート!$R$3)","v":""},{"$f":"IF(入力シート!$AA$3=\"\",\"\",入力シート!$AA$3)","v":""},null,"0","サンプル問題2","E-learningASPの製品ロゴは次のうちのどれか、正しいものを選びなさい。","0","",0,"ロゴ3","誤答","0","サンプルロゴです。"]
[1,{"$f":"IF(入力シート!$I$3=\"\",\"\",入力シート!$I$3)","v":""},{"$f":"IF(入力シート!$R$3=\"\",\"\",入力シート!$R$3)","v":""},{"$f":"IF(入力シート!$AA$3=\"\",\"\",入力シート!$AA$3)","v":""},null,"0","サンプル問題2","E-learningASPの製品ロゴは次のうちのどれか、正しいものを選びなさい。","0","",0,"ロゴ4","誤答","0","サンプルロゴです。"]
[1,{"$f":"IF(入力シート!$I$3=\"\",\"\",入力シート!$I$3)","v":""},{"$f":"IF(入力シート!$R$3=\"\",\"\",入力シート!$R$3)","v":""},{"$f":"IF(入力シート!$AA$3=\"\",\"\",入力シート!$AA$3)","v":""},null,"1","サンプル問題3","次の中から、実際にあることわざをすべて選びなさい。","0","",0,"犬に小判","正答","1","実在します。猫に小判が有名ですが、実は犬に小判ということわざが先に生まれました。その後、猫に小判がカルタに使われて有名になり、このことわざは使われなくなりました。"]
[1,{"$f":"IF(入力シート!$I$3=\"\",\"\",入力シート!$I$3)","v":""},{"$f":"IF(入力シート!$R$3=\"\",\"\",入力シート!$R$3)","v":""},{"$f":"IF(入力シート!$AA$3=\"\",\"\",入力シート!$AA$3)","v":""},null,"1","サンプル問題3","次の中から、実際にあることわざをすべて選びなさい。","0","",0,"犬も歩けば棒にあたる","正答","1","実在します。何かをしようとすれば、何かと災難に遭うことも多いという意味です。"]
[1,{"$f":"IF(入力シート!$I$3=\"\",\"\",入力シート!$I$3)","v":""},{"$f":"IF(入力シート!$R$3=\"\",\"\",入力シート!$R$3)","v":""},{"$f":"IF(入力シート!$AA$3=\"\",\"\",入力シート!$AA$3)","v":""},null,"1","サンプル問題3","次の中から、実際にあることわざをすべて選びなさい。","0","",0,"サルも木から落ちる","正答","1","実在します。その道に長じた者でも、時には失敗をすることがあるという意味です。"]
[1,{"$f":"IF(入力シート!$I$3=\"\",\"\",入力シート!$I$3)","v":""},{"$f":"IF(入力シート!$R$3=\"\",\"\",入力シート!$R$3)","v":""},{"$f":"IF(入力シート!$AA$3=\"\",\"\",入力シート!$AA$3)","v":""},null,"1","サンプル問題3","次の中から、実際にあることわざをすべて選びなさい。","0","",0,"聖徳太子にも筆の誤り","誤答","0","実在しません。実在するのは、弘法にも筆の誤り　です。"]
[1,{"$f":"IF(入力シート!$I$3=\"\",\"\",入力シート!$I$3)","v":""},{"$f":"IF(入力シート!$R$3=\"\",\"\",入力シート!$R$3)","v":""},{"$f":"IF(入力シート!$AA$3=\"\",\"\",入力シート!$AA$3)","v":""},null,"0","サンプル問題4","上記図の「A」にはいる機能名を答えなさい","0","",0,"受講者登録","誤答","0","受講者関連メニューの中にあります"]
[1,{"$f":"IF(入力シート!$I$3=\"\",\"\",入力シート!$I$3)","v":""},{"$f":"IF(入力シート!$R$3=\"\",\"\",入力シート!$R$3)","v":""},{"$f":"IF(入力シート!$AA$3=\"\",\"\",入力シート!$AA$3)","v":""},null,"0","サンプル問題4","上記図の「A」にはいる機能名を答えなさい","0","",0,"講義登録","誤答","0","このメニューは存在しません"]
[1,{"$f":"IF(入力シート!$I$3=\"\",\"\",入力シート!$I$3)","v":""},{"$f":"IF(入力シート!$R$3=\"\",\"\",入力シート!$R$3)","v":""},{"$f":"IF(入力シート!$AA$3=\"\",\"\",入力シート!$AA$3)","v":""},null,"0","サンプル問題4","上記図の「A」にはいる機能名を答えなさい","0","",0,"講師登録","正答","1","正答です"]
[1,{"$f":"IF(入力シート!$I$3=\"\",\"\",入力シート!$I$3)","v":""},{"$f":"IF(入力シート!$R$3=\"\",\"\",入力シート!$R$3)","v":""},{"$f":"IF(入力シート!$AA$3=\"\",\"\",入力シート!$AA$3)","v":""},null,"0","サンプル問題4","上記図の「A」にはいる機能名を答えなさい","0","",0,"講座削除","誤答","0","このメニューは存在しません"]
[1,{"$f":"IF(入力シート!$I$3=\"\",\"\",入力シート!$I$3)","v":""},{"$f":"IF(入力シート!$R$3=\"\",\"\",入力シート!$R$3)","v":""},{"$f":"IF(入力シート!$AA$3=\"\",\"\",入力シート!$AA$3)","v":""},null,"1","サンプル問題5","講師機能について、以下から正しい文言をすべて選択しなさい","0","",0,"受講者は、講師を選択せずに問い合わせをすることができる。その際には、その受講者と講座を担当している講師全員に回答権限が与えられる。","正答","1","正答です"]
[1,{"$f":"IF(入力シート!$I$3=\"\",\"\",入力シート!$I$3)","v":""},{"$f":"IF(入力シート!$R$3=\"\",\"\",入力シート!$R$3)","v":""},{"$f":"IF(入力シート!$AA$3=\"\",\"\",入力シート!$AA$3)","v":""},null,"1","サンプル問題5","講師機能について、以下から正しい文言をすべて選択しなさい","0","",0,"講師ができるのは、担当している受講者の問い合わせに対して回答することのみである。","誤答","0","担当している受講者の受講状況を確認することもできます"]
[1,{"$f":"IF(入力シート!$I$3=\"\",\"\",入力シート!$I$3)","v":""},{"$f":"IF(入力シート!$R$3=\"\",\"\",入力シート!$R$3)","v":""},{"$f":"IF(入力シート!$AA$3=\"\",\"\",入力シート!$AA$3)","v":""},null,"1","サンプル問題5","講師機能について、以下から正しい文言をすべて選択しなさい","0","",0,"講師アカウントは、受講者アカウントの数より多くは作成することができない。","誤答","0","講師アカウントの発行数に関する制限はありません"]
[1,{"$f":"IF(入力シート!$I$3=\"\",\"\",入力シート!$I$3)","v":""},{"$f":"IF(入力シート!$R$3=\"\",\"\",入力シート!$R$3)","v":""},{"$f":"IF(入力シート!$AA$3=\"\",\"\",入力シート!$AA$3)","v":""},null,"1","サンプル問題5","講師機能について、以下から正しい文言をすべて選択しなさい","0","",0,"講師アカウントで、受講者サイトにログインすることはできない。","正答","1","正答です"]
[1,{"$f":"IF(入力シート!$I$3=\"\",\"\",入力シート!$I$3)","v":""},{"$f":"IF(入力シート!$R$3=\"\",\"\",入力シート!$R$3)","v":""},{"$f":"IF(入力シート!$AA$3=\"\",\"\",入力シート!$AA$3)","v":""},null,"1","サンプル問題6","次の中から、受講者サイトのメニューになっているものをすべて選びなさい","0","",0,"講座を受講する","正答","1","正答です"]
[1,{"$f":"IF(入力シート!$I$3=\"\",\"\",入力シート!$I$3)","v":""},{"$f":"IF(入力シート!$R$3=\"\",\"\",入力シート!$R$3)","v":""},{"$f":"IF(入力シート!$AA$3=\"\",\"\",入力シート!$AA$3)","v":""},null,"1","サンプル問題6","次の中から、受講者サイトのメニューになっているものをすべて選びなさい","0","",0,"受講状況確認","正答","1","正答です"]
[1,{"$f":"IF(入力シート!$I$3=\"\",\"\",入力シート!$I$3)","v":""},{"$f":"IF(入力シート!$R$3=\"\",\"\",入力シート!$R$3)","v":""},{"$f":"IF(入力シート!$AA$3=\"\",\"\",入力シート!$AA$3)","v":""},null,"1","サンプル問題6","次の中から、受講者サイトのメニューになっているものをすべて選びなさい","0","",0,"パスワード変更","誤答","0","受講者情報メニューの中に、パスワードを変更する機能があります。パスワードのみを変更するメニューではありません"]
[1,{"$f":"IF(入力シート!$I$3=\"\",\"\",入力シート!$I$3)","v":""},{"$f":"IF(入力シート!$R$3=\"\",\"\",入力シート!$R$3)","v":""},{"$f":"IF(入力シート!$AA$3=\"\",\"\",入力シート!$AA$3)","v":""},null,"1","サンプル問題6","次の中から、受講者サイトのメニューになっているものをすべて選びなさい","0","",0,"退会","正答","1","正答です"]
[1,{"$f":"IF(入力シート!$I$3=\"\",\"\",入力シート!$I$3)","v":""},{"$f":"IF(入力シート!$R$3=\"\",\"\",入力シート!$R$3)","v":""},{"$f":"IF(入力シート!$AA$3=\"\",\"\",入力シート!$AA$3)","v":""},null,"0","サンプル問題7","ASP基本設定について、以下から正しい文言を1つ選択しなさい","0","",0,"ASP基本設定では、サイトのロゴやデザインなどを変更することはできない","誤答","0","ロゴの変更は可能です"]
[1,{"$f":"IF(入力シート!$I$3=\"\",\"\",入力シート!$I$3)","v":""},{"$f":"IF(入力シート!$R$3=\"\",\"\",入力シート!$R$3)","v":""},{"$f":"IF(入力シート!$AA$3=\"\",\"\",入力シート!$AA$3)","v":""},null,"0","サンプル問題7","ASP基本設定について、以下から正しい文言を1つ選択しなさい","0","",0,"システム自動通知メールの送信元アドレスの指定ができる。この指定は当社のドメイン「c-streaming.net」以外で設定することもできる。","正答","1","正答です"]
[1,{"$f":"IF(入力シート!$I$3=\"\",\"\",入力シート!$I$3)","v":""},{"$f":"IF(入力シート!$R$3=\"\",\"\",入力シート!$R$3)","v":""},{"$f":"IF(入力シート!$AA$3=\"\",\"\",入力シート!$AA$3)","v":""},null,"0","サンプル問題7","ASP基本設定について、以下から正しい文言を1つ選択しなさい","0","",0,"スマホサイトとPCサイトのロゴを別々に設定することができる","誤答","0","別々に設定することはできません"]
[1,{"$f":"IF(入力シート!$I$3=\"\",\"\",入力シート!$I$3)","v":""},{"$f":"IF(入力シート!$R$3=\"\",\"\",入力シート!$R$3)","v":""},{"$f":"IF(入力シート!$AA$3=\"\",\"\",入力シート!$AA$3)","v":""},null,"0","サンプル問題7","ASP基本設定について、以下から正しい文言を1つ選択しなさい","0","",0,"サイトのカラーリングを3種類から選択することができる","誤答","0","カラーリングは指定できません"]
[1,{"$f":"IF(入力シート!$I$3=\"\",\"\",入力シート!$I$3)","v":""},{"$f":"IF(入力シート!$R$3=\"\",\"\",入力シート!$R$3)","v":""},{"$f":"IF(入力シート!$AA$3=\"\",\"\",入力シート!$AA$3)","v":""},null,"0","サンプル問題8","講座登録について、以下から正しい文言を1つ選択しなさい","0","",0,"登録した講義を削除することはできない","誤答","0","できます"]
[1,{"$f":"IF(入力シート!$I$3=\"\",\"\",入力シート!$I$3)","v":""},{"$f":"IF(入力シート!$R$3=\"\",\"\",入力シート!$R$3)","v":""},{"$f":"IF(入力シート!$AA$3=\"\",\"\",入力シート!$AA$3)","v":""},null,"0","サンプル問題8","講座登録について、以下から正しい文言を1つ選択しなさい","0","",0,"受講期限日を設定することはできない","誤答","0","できます"]
[1,{"$f":"IF(入力シート!$I$3=\"\",\"\",入力シート!$I$3)","v":""},{"$f":"IF(入力シート!$R$3=\"\",\"\",入力シート!$R$3)","v":""},{"$f":"IF(入力シート!$AA$3=\"\",\"\",入力シート!$AA$3)","v":""},null,"0","サンプル問題8","講座登録について、以下から正しい文言を1つ選択しなさい","0","",0,"講義の受講回数を特定の回数に指定することはできない","正答","1","受講完了後に再受講ができない　という指定は可能ですが、受講回数そのものを制限することはできません"]
[1,{"$f":"IF(入力シート!$I$3=\"\",\"\",入力シート!$I$3)","v":""},{"$f":"IF(入力シート!$R$3=\"\",\"\",入力シート!$R$3)","v":""},{"$f":"IF(入力シート!$AA$3=\"\",\"\",入力シート!$AA$3)","v":""},null,"0","サンプル問題8","講座登録について、以下から正しい文言を1つ選択しなさい","0","",0,"受講期限日のX日前まで受講完了していない者に、催促メールを送信することはできない","誤答","0","可能です"]
[{"$f":"IF(MOD(ROW(),4)=0,INDIRECT(\"入力シート!A\"&7+((ROW()/4)-1)*38),A35)","v":1},{"$f":"IF(入力シート!$I$3=\"\",\"\",入力シート!$I$3)","v":""},{"$f":"IF(入力シート!$R$3=\"\",\"\",入力シート!$R$3)","v":""},{"$f":"IF(入力シート!$AA$3=\"\",\"\",入力シート!$AA$3)","v":""},null,{"$f":"IF(MOD(ROW(),4)=0,IF(INDIRECT(\"入力シート!AF\"&7+((ROW()/4)-1)*38)=\"単一回答\",\"0\",\"1\"),F35)","v":"0"},{"$f":"IF(MOD(ROW(),4)=0,INDIRECT(\"入力シート!F\"&7+((ROW()/4)-1)*38),G35)","v":"サンプル問題9"},{"$f":"IF(MOD(ROW(),4)=0,INDIRECT(\"入力シート!C\"&11+((ROW()/4)-1)*38),H35)","v":"E-learningASPに動画として投稿することができない拡張子を以下から１つ選択しなさい"},{"$f":"IF(MOD(ROW(),4)=0,IF(INDIRECT(\"入力シート!E\"&40+((ROW()/4)-1)*38)=\"利用する\",\"1\",\"0\"),I35)","v":"0"},{"$f":"IF(I36=\"1\",IF(MOD(ROW(),4)=0,INDIRECT(\"入力シート!N\"&40+((ROW()/4)-1)*38),J35),\"\")","v":""},0,{"$f":"IF(MOD(ROW(),4)=0,INDIRECT(\"入力シート!D\"&19+((ROW()/4)-1)*38),INDIRECT(\"入力シート!D\"&19+(ROUNDDOWN((ROW()/4)-1,0))*38+(MOD(ROW(),4)*5)))","v":"jpg"},{"$f":"IF(MOD(ROW(),4)=0,INDIRECT(\"入力シート!AH\"&19+((ROW()/4)-1)*38),INDIRECT(\"入力シート!AH\"&19+(ROUNDDOWN((ROW()/4)-1,0))*38+(MOD(ROW(),4)*5)))","v":"正答"},{"$f":"IF(M36=\"正答\",\"1\",\"0\")","v":"1"},"画像の拡張子です"]
[1,{"$f":"IF(入力シート!$I$3=\"\",\"\",入力シート!$I$3)","v":""},{"$f":"IF(入力シート!$R$3=\"\",\"\",入力シート!$R$3)","v":""},{"$f":"IF(入力シート!$AA$3=\"\",\"\",入力シート!$AA$3)","v":""},null,"0","サンプル問題9","E-learningASPに動画として投稿することができない拡張子を以下から１つ選択しなさい","0","",0,"mp4","誤答","0","動画であれば、あらゆる拡張子を投稿することができます"]
[1,{"$f":"IF(入力シート!$I$3=\"\",\"\",入力シート!$I$3)","v":""},{"$f":"IF(入力シート!$R$3=\"\",\"\",入力シート!$R$3)","v":""},{"$f":"IF(入力シート!$AA$3=\"\",\"\",入力シート!$AA$3)","v":""},null,"0","サンプル問題9","E-learningASPに動画として投稿することができない拡張子を以下から１つ選択しなさい","0","",0,"tiff","誤答","0","動画であれば、あらゆる拡張子を投稿することができます"]
[1,{"$f":"IF(入力シート!$I$3=\"\",\"\",入力シート!$I$3)","v":""},{"$f":"IF(入力シート!$R$3=\"\",\"\",入力シート!$R$3)","v":""},{"$f":"IF(入力シート!$AA$3=\"\",\"\",入力シート!$AA$3)","v":""},null,"0","サンプル問題9","E-learningASPに動画として投稿することができない拡張子を以下から１つ選択しなさい","0","",0,"f4v","誤答","0","動画であれば、あらゆる拡張子を投稿することができます"]
[1,{"$f":"IF(入力シート!$I$3=\"\",\"\",入力シート!$I$3)","v":""},{"$f":"IF(入力シート!$R$3=\"\",\"\",入力シート!$R$3)","v":""},{"$f":"IF(入力シート!$AA$3=\"\",\"\",入力シート!$AA$3)","v":""},null,"0","サンプル問題10","配信データ量40GB、問題出題数500問、スライドPV数1500pvの場合、ノーマルプランを選択した場合の月額料金(税抜き）を答えなさい。（ただし、無料分の繰り越しは存在しない、サブアカウントの利用はないものとする）","0","",0,"10,000円","誤答","0","間違っています"]
[1,{"$f":"IF(入力シート!$I$3=\"\",\"\",入力シート!$I$3)","v":""},{"$f":"IF(入力シート!$R$3=\"\",\"\",入力シート!$R$3)","v":""},{"$f":"IF(入力シート!$AA$3=\"\",\"\",入力シート!$AA$3)","v":""},null,"0","サンプル問題10","配信データ量40GB、問題出題数500問、スライドPV数1500pvの場合、ノーマルプランを選択した場合の月額料金(税抜き）を答えなさい。（ただし、無料分の繰り越しは存在しない、サブアカウントの利用はないものとする）","0","",0,"20,000円","誤答","0","間違っています"]
[1,{"$f":"IF(入力シート!$I$3=\"\",\"\",入力シート!$I$3)","v":""},{"$f":"IF(入力シート!$R$3=\"\",\"\",入力シート!$R$3)","v":""},{"$f":"IF(入力シート!$AA$3=\"\",\"\",入力シート!$AA$3)","v":""},null,"0","サンプル問題10","配信データ量40GB、問題出題数500問、スライドPV数1500pvの場合、ノーマルプランを選択した場合の月額料金(税抜き）を答えなさい。（ただし、無料分の繰り越しは存在しない、サブアカウントの利用はないものとする）","0","",0,"19,800円","誤答","0","間違っています"]
[1,{"$f":"IF(入力シート!$I$3=\"\",\"\",入力シート!$I$3)","v":""},{"$f":"IF(入力シート!$R$3=\"\",\"\",入力シート!$R$3)","v":""},{"$f":"IF(入力シート!$AA$3=\"\",\"\",入力シート!$AA$3)","v":""},null,"0","サンプル問題10","配信データ量40GB、問題出題数500問、スライドPV数1500pvの場合、ノーマルプランを選択した場合の月額料金(税抜き）を答えなさい。（ただし、無料分の繰り越しは存在しない、サブアカウントの利用はないものとする）","0","",0,"19,500円","正答","1","正答です"]
[0,{"$f":"IF(入力シート!$I$3=\"\",\"\",入力シート!$I$3)","v":""},{"$f":"IF(入力シート!$R$3=\"\",\"\",入力シート!$R$3)","v":""},{"$f":"IF(入力シート!$AA$3=\"\",\"\",入力シート!$AA$3)","v":""},null,"1",0,0,"0","",0,0,0,"0"]
[0,{"$f":"IF(入力シート!$I$3=\"\",\"\",入力シート!$I$3)","v":""},{"$f":"IF(入力シート!$R$3=\"\",\"\",入力シート!$R$3)","v":""},{"$f":"IF(入力シート!$AA$3=\"\",\"\",入力シート!$AA$3)","v":""},null,"1",0,0,"0","",0,0,0,"0"]
[0,{"$f":"IF(入力シート!$I$3=\"\",\"\",入力シート!$I$3)","v":""},{"$f":"IF(入力シート!$R$3=\"\",\"\",入力シート!$R$3)","v":""},{"$f":"IF(入力シート!$AA$3=\"\",\"\",入力シート!$AA$3)","v":""},null,"1",0,0,"0","",0,0,0,"0"]
[0,{"$f":"IF(入力シート!$I$3=\"\",\"\",入力シート!$I$3)","v":""},{"$f":"IF(入力シート!$R$3=\"\",\"\",入力シート!$R$3)","v":""},{"$f":"IF(入力シート!$AA$3=\"\",\"\",入力シート!$AA$3)","v":""},null,"1",0,0,"0","",0,0,0,"0"]
[0,{"$f":"IF(入力シート!$I$3=\"\",\"\",入力シート!$I$3)","v":""},{"$f":"IF(入力シート!$R$3=\"\",\"\",入力シート!$R$3)","v":""},{"$f":"IF(入力シート!$AA$3=\"\",\"\",入力シート!$AA$3)","v":""},null,"1",0,0,"0","",0,0,0,"0"]
[0,{"$f":"IF(入力シート!$I$3=\"\",\"\",入力シート!$I$3)","v":""},{"$f":"IF(入力シート!$R$3=\"\",\"\",入力シート!$R$3)","v":""},{"$f":"IF(入力シート!$AA$3=\"\",\"\",入力シート!$AA$3)","v":""},null,"1",0,0,"0","",0,0,0,"0"]
[0,{"$f":"IF(入力シート!$I$3=\"\",\"\",入力シート!$I$3)","v":""},{"$f":"IF(入力シート!$R$3=\"\",\"\",入力シート!$R$3)","v":""},{"$f":"IF(入力シート!$AA$3=\"\",\"\",入力シート!$AA$3)","v":""},null,"1",0,0,"0","",0,0,0,"0"]
[0,{"$f":"IF(入力シート!$I$3=\"\",\"\",入力シート!$I$3)","v":""},{"$f":"IF(入力シート!$R$3=\"\",\"\",入力シート!$R$3)","v":""},{"$f":"IF(入力シート!$AA$3=\"\",\"\",入力シート!$AA$3)","v":""},null,"1",0,0,"0","",0,0,0,"0"]
[0,{"$f":"IF(入力シート!$I$3=\"\",\"\",入力シート!$I$3)","v":""},{"$f":"IF(入力シート!$R$3=\"\",\"\",入力シート!$R$3)","v":""},{"$f":"IF(入力シート!$AA$3=\"\",\"\",入力シート!$AA$3)","v":""},null,"1",0,0,"0","",0,0,0,"0"]
[0,{"$f":"IF(入力シート!$I$3=\"\",\"\",入力シート!$I$3)","v":""},{"$f":"IF(入力シート!$R$3=\"\",\"\",入力シート!$R$3)","v":""},{"$f":"IF(入力シート!$AA$3=\"\",\"\",入力シート!$AA$3)","v":""},null,"1",0,0,"0","",0,0,0,"0"]
[0,{"$f":"IF(入力シート!$I$3=\"\",\"\",入力シート!$I$3)","v":""},{"$f":"IF(入力シート!$R$3=\"\",\"\",入力シート!$R$3)","v":""},{"$f":"IF(入力シート!$AA$3=\"\",\"\",入力シート!$AA$3)","v":""},null,"1",0,0,"0","",0,0,0,"0"]
[0,{"$f":"IF(入力シート!$I$3=\"\",\"\",入力シート!$I$3)","v":""},{"$f":"IF(入力シート!$R$3=\"\",\"\",入力シート!$R$3)","v":""},{"$f":"IF(入力シート!$AA$3=\"\",\"\",入力シート!$AA$3)","v":""},null,"1",0,0,"0","",0,0,0,"0"]
[0,{"$f":"IF(入力シート!$I$3=\"\",\"\",入力シート!$I$3)","v":""},{"$f":"IF(入力シート!$R$3=\"\",\"\",入力シート!$R$3)","v":""},{"$f":"IF(入力シート!$AA$3=\"\",\"\",入力シート!$AA$3)","v":""},null,"1",0,0,"0","",0,0,0,"0"]
[0,{"$f":"IF(入力シート!$I$3=\"\",\"\",入力シート!$I$3)","v":""},{"$f":"IF(入力シート!$R$3=\"\",\"\",入力シート!$R$3)","v":""},{"$f":"IF(入力シート!$AA$3=\"\",\"\",入力シート!$AA$3)","v":""},null,"1",0,0,"0","",0,0,0,"0"]
[0,{"$f":"IF(入力シート!$I$3=\"\",\"\",入力シート!$I$3)","v":""},{"$f":"IF(入力シート!$R$3=\"\",\"\",入力シート!$R$3)","v":""},{"$f":"IF(入力シート!$AA$3=\"\",\"\",入力シート!$AA$3)","v":""},null,"1",0,0,"0","",0,0,0,"0"]
[0,{"$f":"IF(入力シート!$I$3=\"\",\"\",入力シート!$I$3)","v":""},{"$f":"IF(入力シート!$R$3=\"\",\"\",入力シート!$R$3)","v":""},{"$f":"IF(入力シート!$AA$3=\"\",\"\",入力シート!$AA$3)","v":""},null,"1",0,0,"0","",0,0,0,"0"]
[0,{"$f":"IF(入力シート!$I$3=\"\",\"\",入力シート!$I$3)","v":""},{"$f":"IF(入力シート!$R$3=\"\",\"\",入力シート!$R$3)","v":""},{"$f":"IF(入力シート!$AA$3=\"\",\"\",入力シート!$AA$3)","v":""},null,"1",0,0,"0","",0,0,0,"0"]
[0,{"$f":"IF(入力シート!$I$3=\"\",\"\",入力シート!$I$3)","v":""},{"$f":"IF(入力シート!$R$3=\"\",\"\",入力シート!$R$3)","v":""},{"$f":"IF(入力シート!$AA$3=\"\",\"\",入力シート!$AA$3)","v":""},null,"1",0,0,"0","",0,0,0,"0"]
[0,{"$f":"IF(入力シート!$I$3=\"\",\"\",入力シート!$I$3)","v":""},{"$f":"IF(入力シート!$R$3=\"\",\"\",入力シート!$R$3)","v":""},{"$f":"IF(入力シート!$AA$3=\"\",\"\",入力シート!$AA$3)","v":""},null,"1",0,0,"0","",0,0,0,"0"]
[0,{"$f":"IF(入力シート!$I$3=\"\",\"\",入力シート!$I$3)","v":""},{"$f":"IF(入力シート!$R$3=\"\",\"\",入力シート!$R$3)","v":""},{"$f":"IF(入力シート!$AA$3=\"\",\"\",入力シート!$AA$3)","v":""},null,"1",0,0,"0","",0,0,0,"0"]
[0,{"$f":"IF(入力シート!$I$3=\"\",\"\",入力シート!$I$3)","v":""},{"$f":"IF(入力シート!$R$3=\"\",\"\",入力シート!$R$3)","v":""},{"$f":"IF(入力シート!$AA$3=\"\",\"\",入力シート!$AA$3)","v":""},null,"1",0,0,"0","",0,0,0,"0"]
[0,{"$f":"IF(入力シート!$I$3=\"\",\"\",入力シート!$I$3)","v":""},{"$f":"IF(入力シート!$R$3=\"\",\"\",入力シート!$R$3)","v":""},{"$f":"IF(入力シート!$AA$3=\"\",\"\",入力シート!$AA$3)","v":""},null,"1",0,0,"0","",0,0,0,"0"]
[0,{"$f":"IF(入力シート!$I$3=\"\",\"\",入力シート!$I$3)","v":""},{"$f":"IF(入力シート!$R$3=\"\",\"\",入力シート!$R$3)","v":""},{"$f":"IF(入力シート!$AA$3=\"\",\"\",入力シート!$AA$3)","v":""},null,"1",0,0,"0","",0,0,0,"0"]
[0,{"$f":"IF(入力シート!$I$3=\"\",\"\",入力シート!$I$3)","v":""},{"$f":"IF(入力シート!$R$3=\"\",\"\",入力シート!$R$3)","v":""},{"$f":"IF(入力シート!$AA$3=\"\",\"\",入力シート!$AA$3)","v":""},null,"1",0,0,"0","",0,0,0,"0"]
[{"$f":"IF(MOD(ROW(),4)=0,INDIRECT(\"入力シート!A\"&7+((ROW()/4)-1)*38),A67)","v":0},{"$f":"IF(入力シート!$I$3=\"\",\"\",入力シート!$I$3)","v":""},{"$f":"IF(入力シート!$R$3=\"\",\"\",入力シート!$R$3)","v":""},{"$f":"IF(入力シート!$AA$3=\"\",\"\",入力シート!$AA$3)","v":""},null,{"$f":"IF(MOD(ROW(),4)=0,IF(INDIRECT(\"入力シート!AF\"&7+((ROW()/4)-1)*38)=\"単一回答\",\"0\",\"1\"),F67)","v":"1"},{"$f":"IF(MOD(ROW(),4)=0,INDIRECT(\"入力シート!F\"&7+((ROW()/4)-1)*38),G67)","v":0},{"$f":"IF(MOD(ROW(),4)=0,INDIRECT(\"入力シート!C\"&11+((ROW()/4)-1)*38),H67)","v":0},{"$f":"IF(MOD(ROW(),4)=0,IF(INDIRECT(\"入力シート!E\"&40+((ROW()/4)-1)*38)=\"利用する\",\"1\",\"0\"),I67)","v":"0"},{"$f":"IF(I68=\"1\",IF(MOD(ROW(),4)=0,INDIRECT(\"入力シート!N\"&40+((ROW()/4)-1)*38),J67),\"\")","v":""},0,{"$f":"IF(MOD(ROW(),4)=0,INDIRECT(\"入力シート!D\"&19+((ROW()/4)-1)*38),INDIRECT(\"入力シート!D\"&19+(ROUNDDOWN((ROW()/4)-1,0))*38+(MOD(ROW(),4)*5)))","v":0},{"$f":"IF(MOD(ROW(),4)=0,INDIRECT(\"入力シート!AH\"&19+((ROW()/4)-1)*38),INDIRECT(\"入力シート!AH\"&19+(ROUNDDOWN((ROW()/4)-1,0))*38+(MOD(ROW(),4)*5)))","v":0},{"$f":"IF(M68=\"正答\",\"1\",\"0\")","v":"0"}]
[0,{"$f":"IF(入力シート!$I$3=\"\",\"\",入力シート!$I$3)","v":""},{"$f":"IF(入力シート!$R$3=\"\",\"\",入力シート!$R$3)","v":""},{"$f":"IF(入力シート!$AA$3=\"\",\"\",入力シート!$AA$3)","v":""},null,"1",0,0,"0","",0,0,0,"0"]
[0,{"$f":"IF(入力シート!$I$3=\"\",\"\",入力シート!$I$3)","v":""},{"$f":"IF(入力シート!$R$3=\"\",\"\",入力シート!$R$3)","v":""},{"$f":"IF(入力シート!$AA$3=\"\",\"\",入力シート!$AA$3)","v":""},null,"1",0,0,"0","",0,0,0,"0"]
[0,{"$f":"IF(入力シート!$I$3=\"\",\"\",入力シート!$I$3)","v":""},{"$f":"IF(入力シート!$R$3=\"\",\"\",入力シート!$R$3)","v":""},{"$f":"IF(入力シート!$AA$3=\"\",\"\",入力シート!$AA$3)","v":""},null,"1",0,0,"0","",0,0,0,"0"]
[0,{"$f":"IF(入力シート!$I$3=\"\",\"\",入力シート!$I$3)","v":""},{"$f":"IF(入力シート!$R$3=\"\",\"\",入力シート!$R$3)","v":""},{"$f":"IF(入力シート!$AA$3=\"\",\"\",入力シート!$AA$3)","v":""},null,"1",0,0,"0","",0,0,0,"0"]
[0,{"$f":"IF(入力シート!$I$3=\"\",\"\",入力シート!$I$3)","v":""},{"$f":"IF(入力シート!$R$3=\"\",\"\",入力シート!$R$3)","v":""},{"$f":"IF(入力シート!$AA$3=\"\",\"\",入力シート!$AA$3)","v":""},null,"1",0,0,"0","",0,0,0,"0"]
[0,{"$f":"IF(入力シート!$I$3=\"\",\"\",入力シート!$I$3)","v":""},{"$f":"IF(入力シート!$R$3=\"\",\"\",入力シート!$R$3)","v":""},{"$f":"IF(入力シート!$AA$3=\"\",\"\",入力シート!$AA$3)","v":""},null,"1",0,0,"0","",0,0,0,"0"]
[0,{"$f":"IF(入力シート!$I$3=\"\",\"\",入力シート!$I$3)","v":""},{"$f":"IF(入力シート!$R$3=\"\",\"\",入力シート!$R$3)","v":""},{"$f":"IF(入力シート!$AA$3=\"\",\"\",入力シート!$AA$3)","v":""},null,"1",0,0,"0","",0,0,0,"0"]
[0,{"$f":"IF(入力シート!$I$3=\"\",\"\",入力シート!$I$3)","v":""},{"$f":"IF(入力シート!$R$3=\"\",\"\",入力シート!$R$3)","v":""},{"$f":"IF(入力シート!$AA$3=\"\",\"\",入力シート!$AA$3)","v":""},null,"1",0,0,"0","",0,0,0,"0"]
[0,{"$f":"IF(入力シート!$I$3=\"\",\"\",入力シート!$I$3)","v":""},{"$f":"IF(入力シート!$R$3=\"\",\"\",入力シート!$R$3)","v":""},{"$f":"IF(入力シート!$AA$3=\"\",\"\",入力シート!$AA$3)","v":""},null,"1",0,0,"0","",0,0,0,"0"]
[0,{"$f":"IF(入力シート!$I$3=\"\",\"\",入力シート!$I$3)","v":""},{"$f":"IF(入力シート!$R$3=\"\",\"\",入力シート!$R$3)","v":""},{"$f":"IF(入力シート!$AA$3=\"\",\"\",入力シート!$AA$3)","v":""},null,"1",0,0,"0","",0,0,0,"0"]
[0,{"$f":"IF(入力シート!$I$3=\"\",\"\",入力シート!$I$3)","v":""},{"$f":"IF(入力シート!$R$3=\"\",\"\",入力シート!$R$3)","v":""},{"$f":"IF(入力シート!$AA$3=\"\",\"\",入力シート!$AA$3)","v":""},null,"1",0,0,"0","",0,0,0,"0"]
[0,{"$f":"IF(入力シート!$I$3=\"\",\"\",入力シート!$I$3)","v":""},{"$f":"IF(入力シート!$R$3=\"\",\"\",入力シート!$R$3)","v":""},{"$f":"IF(入力シート!$AA$3=\"\",\"\",入力シート!$AA$3)","v":""},null,"1",0,0,"0","",0,0,0,"0"]
[0,{"$f":"IF(入力シート!$I$3=\"\",\"\",入力シート!$I$3)","v":""},{"$f":"IF(入力シート!$R$3=\"\",\"\",入力シート!$R$3)","v":""},{"$f":"IF(入力シート!$AA$3=\"\",\"\",入力シート!$AA$3)","v":""},null,"1",0,0,"0","",0,0,0,"0"]
[0,{"$f":"IF(入力シート!$I$3=\"\",\"\",入力シート!$I$3)","v":""},{"$f":"IF(入力シート!$R$3=\"\",\"\",入力シート!$R$3)","v":""},{"$f":"IF(入力シート!$AA$3=\"\",\"\",入力シート!$AA$3)","v":""},null,"1",0,0,"0","",0,0,0,"0"]
[0,{"$f":"IF(入力シート!$I$3=\"\",\"\",入力シート!$I$3)","v":""},{"$f":"IF(入力シート!$R$3=\"\",\"\",入力シート!$R$3)","v":""},{"$f":"IF(入力シート!$AA$3=\"\",\"\",入力シート!$AA$3)","v":""},null,"1",0,0,"0","",0,0,0,"0"]
[0,{"$f":"IF(入力シート!$I$3=\"\",\"\",入力シート!$I$3)","v":""},{"$f":"IF(入力シート!$R$3=\"\",\"\",入力シート!$R$3)","v":""},{"$f":"IF(入力シート!$AA$3=\"\",\"\",入力シート!$AA$3)","v":""},null,"1",0,0,"0","",0,0,0,"0"]
[0,{"$f":"IF(入力シート!$I$3=\"\",\"\",入力シート!$I$3)","v":""},{"$f":"IF(入力シート!$R$3=\"\",\"\",入力シート!$R$3)","v":""},{"$f":"IF(入力シート!$AA$3=\"\",\"\",入力シート!$AA$3)","v":""},null,"1",0,0,"0","",0,0,0,"0"]
[0,{"$f":"IF(入力シート!$I$3=\"\",\"\",入力シート!$I$3)","v":""},{"$f":"IF(入力シート!$R$3=\"\",\"\",入力シート!$R$3)","v":""},{"$f":"IF(入力シート!$AA$3=\"\",\"\",入力シート!$AA$3)","v":""},null,"1",0,0,"0","",0,0,0,"0"]
[0,{"$f":"IF(入力シート!$I$3=\"\",\"\",入力シート!$I$3)","v":""},{"$f":"IF(入力シート!$R$3=\"\",\"\",入力シート!$R$3)","v":""},{"$f":"IF(入力シート!$AA$3=\"\",\"\",入力シート!$AA$3)","v":""},null,"1",0,0,"0","",0,0,0,"0"]
[0,{"$f":"IF(入力シート!$I$3=\"\",\"\",入力シート!$I$3)","v":""},{"$f":"IF(入力シート!$R$3=\"\",\"\",入力シート!$R$3)","v":""},{"$f":"IF(入力シート!$AA$3=\"\",\"\",入力シート!$AA$3)","v":""},null,"1",0,0,"0","",0,0,0,"0"]
[0,{"$f":"IF(入力シート!$I$3=\"\",\"\",入力シート!$I$3)","v":""},{"$f":"IF(入力シート!$R$3=\"\",\"\",入力シート!$R$3)","v":""},{"$f":"IF(入力シート!$AA$3=\"\",\"\",入力シート!$AA$3)","v":""},null,"1",0,0,"0","",0,0,0,"0"]
[0,{"$f":"IF(入力シート!$I$3=\"\",\"\",入力シート!$I$3)","v":""},{"$f":"IF(入力シート!$R$3=\"\",\"\",入力シート!$R$3)","v":""},{"$f":"IF(入力シート!$AA$3=\"\",\"\",入力シート!$AA$3)","v":""},null,"1",0,0,"0","",0,0,0,"0"]
[0,{"$f":"IF(入力シート!$I$3=\"\",\"\",入力シート!$I$3)","v":""},{"$f":"IF(入力シート!$R$3=\"\",\"\",入力シート!$R$3)","v":""},{"$f":"IF(入力シート!$AA$3=\"\",\"\",入力シート!$AA$3)","v":""},null,"1",0,0,"0","",0,0,0,"0"]
[0,{"$f":"IF(入力シート!$I$3=\"\",\"\",入力シート!$I$3)","v":""},{"$f":"IF(入力シート!$R$3=\"\",\"\",入力シート!$R$3)","v":""},{"$f":"IF(入力シート!$AA$3=\"\",\"\",入力シート!$AA$3)","v":""},null,"1",0,0,"0","",0,0,0,"0"]
[0,{"$f":"IF(入力シート!$I$3=\"\",\"\",入力シート!$I$3)","v":""},{"$f":"IF(入力シート!$R$3=\"\",\"\",入力シート!$R$3)","v":""},{"$f":"IF(入力シート!$AA$3=\"\",\"\",入力シート!$AA$3)","v":""},null,"1",0,0,"0","",0,0,0,"0"]
[0,{"$f":"IF(入力シート!$I$3=\"\",\"\",入力シート!$I$3)","v":""},{"$f":"IF(入力シート!$R$3=\"\",\"\",入力シート!$R$3)","v":""},{"$f":"IF(入力シート!$AA$3=\"\",\"\",入力シート!$AA$3)","v":""},null,"1",0,0,"0","",0,0,0,"0"]
[0,{"$f":"IF(入力シート!$I$3=\"\",\"\",入力シート!$I$3)","v":""},{"$f":"IF(入力シート!$R$3=\"\",\"\",入力シート!$R$3)","v":""},{"$f":"IF(入力シート!$AA$3=\"\",\"\",入力シート!$AA$3)","v":""},null,"1",0,0,"0","",0,0,0,"0"]
[0,{"$f":"IF(入力シート!$I$3=\"\",\"\",入力シート!$I$3)","v":""},{"$f":"IF(入力シート!$R$3=\"\",\"\",入力シート!$R$3)","v":""},{"$f":"IF(入力シート!$AA$3=\"\",\"\",入力シート!$AA$3)","v":""},null,"1",0,0,"0","",0,0,0,"0"]
[0,{"$f":"IF(入力シート!$I$3=\"\",\"\",入力シート!$I$3)","v":""},{"$f":"IF(入力シート!$R$3=\"\",\"\",入力シート!$R$3)","v":""},{"$f":"IF(入力シート!$AA$3=\"\",\"\",入力シート!$AA$3)","v":""},null,"1",0,0,"0","",0,0,0,"0"]
[0,{"$f":"IF(入力シート!$I$3=\"\",\"\",入力シート!$I$3)","v":""},{"$f":"IF(入力シート!$R$3=\"\",\"\",入力シート!$R$3)","v":""},{"$f":"IF(入力シート!$AA$3=\"\",\"\",入力シート!$AA$3)","v":""},null,"1",0,0,"0","",0,0,0,"0"]
[0,{"$f":"IF(入力シート!$I$3=\"\",\"\",入力シート!$I$3)","v":""},{"$f":"IF(入力シート!$R$3=\"\",\"\",入力シート!$R$3)","v":""},{"$f":"IF(入力シート!$AA$3=\"\",\"\",入力シート!$AA$3)","v":""},null,"1",0,0,"0","",0,0,0,"0"]
[{"$f":"IF(MOD(ROW(),4)=0,INDIRECT(\"入力シート!A\"&7+((ROW()/4)-1)*38),A99)","v":0},{"$f":"IF(入力シート!$I$3=\"\",\"\",入力シート!$I$3)","v":""},{"$f":"IF(入力シート!$R$3=\"\",\"\",入力シート!$R$3)","v":""},{"$f":"IF(入力シート!$AA$3=\"\",\"\",入力シート!$AA$3)","v":""},null,{"$f":"IF(MOD(ROW(),4)=0,IF(INDIRECT(\"入力シート!AF\"&7+((ROW()/4)-1)*38)=\"単一回答\",\"0\",\"1\"),F99)","v":"1"},{"$f":"IF(MOD(ROW(),4)=0,INDIRECT(\"入力シート!F\"&7+((ROW()/4)-1)*38),G99)","v":0},{"$f":"IF(MOD(ROW(),4)=0,INDIRECT(\"入力シート!C\"&11+((ROW()/4)-1)*38),H99)","v":0},{"$f":"IF(MOD(ROW(),4)=0,IF(INDIRECT(\"入力シート!E\"&40+((ROW()/4)-1)*38)=\"利用する\",\"1\",\"0\"),I99)","v":"0"},{"$f":"IF(I100=\"1\",IF(MOD(ROW(),4)=0,INDIRECT(\"入力シート!N\"&40+((ROW()/4)-1)*38),J99),\"\")","v":""},0,{"$f":"IF(MOD(ROW(),4)=0,INDIRECT(\"入力シート!D\"&19+((ROW()/4)-1)*38),INDIRECT(\"入力シート!D\"&19+(ROUNDDOWN((ROW()/4)-1,0))*38+(MOD(ROW(),4)*5)))","v":0},{"$f":"IF(MOD(ROW(),4)=0,INDIRECT(\"入力シート!AH\"&19+((ROW()/4)-1)*38),INDIRECT(\"入力シート!AH\"&19+(ROUNDDOWN((ROW()/4)-1,0))*38+(MOD(ROW(),4)*5)))","v":0},{"$f":"IF(M100=\"正答\",\"1\",\"0\")","v":"0"}]
[0,{"$f":"IF(入力シート!$I$3=\"\",\"\",入力シート!$I$3)","v":""},{"$f":"IF(入力シート!$R$3=\"\",\"\",入力シート!$R$3)","v":""},{"$f":"IF(入力シート!$AA$3=\"\",\"\",入力シート!$AA$3)","v":""},null,"1",0,0,"0","",0,0,0,"0"]
[0,{"$f":"IF(入力シート!$I$3=\"\",\"\",入力シート!$I$3)","v":""},{"$f":"IF(入力シート!$R$3=\"\",\"\",入力シート!$R$3)","v":""},{"$f":"IF(入力シート!$AA$3=\"\",\"\",入力シート!$AA$3)","v":""},null,"1",0,0,"0","",0,0,0,"0"]
[0,{"$f":"IF(入力シート!$I$3=\"\",\"\",入力シート!$I$3)","v":""},{"$f":"IF(入力シート!$R$3=\"\",\"\",入力シート!$R$3)","v":""},{"$f":"IF(入力シート!$AA$3=\"\",\"\",入力シート!$AA$3)","v":""},null,"1",0,0,"0","",0,0,0,"0"]
[0,{"$f":"IF(入力シート!$I$3=\"\",\"\",入力シート!$I$3)","v":""},{"$f":"IF(入力シート!$R$3=\"\",\"\",入力シート!$R$3)","v":""},{"$f":"IF(入力シート!$AA$3=\"\",\"\",入力シート!$AA$3)","v":""},null,"1",0,0,"0","",0,0,0,"0"]
[0,{"$f":"IF(入力シート!$I$3=\"\",\"\",入力シート!$I$3)","v":""},{"$f":"IF(入力シート!$R$3=\"\",\"\",入力シート!$R$3)","v":""},{"$f":"IF(入力シート!$AA$3=\"\",\"\",入力シート!$AA$3)","v":""},null,"1",0,0,"0","",0,0,0,"0"]
[0,{"$f":"IF(入力シート!$I$3=\"\",\"\",入力シート!$I$3)","v":""},{"$f":"IF(入力シート!$R$3=\"\",\"\",入力シート!$R$3)","v":""},{"$f":"IF(入力シート!$AA$3=\"\",\"\",入力シート!$AA$3)","v":""},null,"1",0,0,"0","",0,0,0,"0"]
[0,{"$f":"IF(入力シート!$I$3=\"\",\"\",入力シート!$I$3)","v":""},{"$f":"IF(入力シート!$R$3=\"\",\"\",入力シート!$R$3)","v":""},{"$f":"IF(入力シート!$AA$3=\"\",\"\",入力シート!$AA$3)","v":""},null,"1",0,0,"0","",0,0,0,"0"]
[0,{"$f":"IF(入力シート!$I$3=\"\",\"\",入力シート!$I$3)","v":""},{"$f":"IF(入力シート!$R$3=\"\",\"\",入力シート!$R$3)","v":""},{"$f":"IF(入力シート!$AA$3=\"\",\"\",入力シート!$AA$3)","v":""},null,"1",0,0,"0","",0,0,0,"0"]
[0,{"$f":"IF(入力シート!$I$3=\"\",\"\",入力シート!$I$3)","v":""},{"$f":"IF(入力シート!$R$3=\"\",\"\",入力シート!$R$3)","v":""},{"$f":"IF(入力シート!$AA$3=\"\",\"\",入力シート!$AA$3)","v":""},null,"1",0,0,"0","",0,0,0,"0"]
[0,{"$f":"IF(入力シート!$I$3=\"\",\"\",入力シート!$I$3)","v":""},{"$f":"IF(入力シート!$R$3=\"\",\"\",入力シート!$R$3)","v":""},{"$f":"IF(入力シート!$AA$3=\"\",\"\",入力シート!$AA$3)","v":""},null,"1",0,0,"0","",0,0,0,"0"]
[0,{"$f":"IF(入力シート!$I$3=\"\",\"\",入力シート!$I$3)","v":""},{"$f":"IF(入力シート!$R$3=\"\",\"\",入力シート!$R$3)","v":""},{"$f":"IF(入力シート!$AA$3=\"\",\"\",入力シート!$AA$3)","v":""},null,"1",0,0,"0","",0,0,0,"0"]
[0,{"$f":"IF(入力シート!$I$3=\"\",\"\",入力シート!$I$3)","v":""},{"$f":"IF(入力シート!$R$3=\"\",\"\",入力シート!$R$3)","v":""},{"$f":"IF(入力シート!$AA$3=\"\",\"\",入力シート!$AA$3)","v":""},null,"1",0,0,"0","",0,0,0,"0"]
[0,{"$f":"IF(入力シート!$I$3=\"\",\"\",入力シート!$I$3)","v":""},{"$f":"IF(入力シート!$R$3=\"\",\"\",入力シート!$R$3)","v":""},{"$f":"IF(入力シート!$AA$3=\"\",\"\",入力シート!$AA$3)","v":""},null,"1",0,0,"0","",0,0,0,"0"]
[0,{"$f":"IF(入力シート!$I$3=\"\",\"\",入力シート!$I$3)","v":""},{"$f":"IF(入力シート!$R$3=\"\",\"\",入力シート!$R$3)","v":""},{"$f":"IF(入力シート!$AA$3=\"\",\"\",入力シート!$AA$3)","v":""},null,"1",0,0,"0","",0,0,0,"0"]
[0,{"$f":"IF(入力シート!$I$3=\"\",\"\",入力シート!$I$3)","v":""},{"$f":"IF(入力シート!$R$3=\"\",\"\",入力シート!$R$3)","v":""},{"$f":"IF(入力シート!$AA$3=\"\",\"\",入力シート!$AA$3)","v":""},null,"1",0,0,"0","",0,0,0,"0"]
[0,{"$f":"IF(入力シート!$I$3=\"\",\"\",入力シート!$I$3)","v":""},{"$f":"IF(入力シート!$R$3=\"\",\"\",入力シート!$R$3)","v":""},{"$f":"IF(入力シート!$AA$3=\"\",\"\",入力シート!$AA$3)","v":""},null,"1",0,0,"0","",0,0,0,"0"]
[0,{"$f":"IF(入力シート!$I$3=\"\",\"\",入力シート!$I$3)","v":""},{"$f":"IF(入力シート!$R$3=\"\",\"\",入力シート!$R$3)","v":""},{"$f":"IF(入力シート!$AA$3=\"\",\"\",入力シート!$AA$3)","v":""},null,"1",0,0,"0","",0,0,0,"0"]
[0,{"$f":"IF(入力シート!$I$3=\"\",\"\",入力シート!$I$3)","v":""},{"$f":"IF(入力シート!$R$3=\"\",\"\",入力シート!$R$3)","v":""},{"$f":"IF(入力シート!$AA$3=\"\",\"\",入力シート!$AA$3)","v":""},null,"1",0,0,"0","",0,0,0,"0"]
[0,{"$f":"IF(入力シート!$I$3=\"\",\"\",入力シート!$I$3)","v":""},{"$f":"IF(入力シート!$R$3=\"\",\"\",入力シート!$R$3)","v":""},{"$f":"IF(入力シート!$AA$3=\"\",\"\",入力シート!$AA$3)","v":""},null,"1",0,0,"0","",0,0,0,"0"]
[0,{"$f":"IF(入力シート!$I$3=\"\",\"\",入力シート!$I$3)","v":""},{"$f":"IF(入力シート!$R$3=\"\",\"\",入力シート!$R$3)","v":""},{"$f":"IF(入力シート!$AA$3=\"\",\"\",入力シート!$AA$3)","v":""},null,"1",0,0,"0","",0,0,0,"0"]
[0,{"$f":"IF(入力シート!$I$3=\"\",\"\",入力シート!$I$3)","v":""},{"$f":"IF(入力シート!$R$3=\"\",\"\",入力シート!$R$3)","v":""},{"$f":"IF(入力シート!$AA$3=\"\",\"\",入力シート!$AA$3)","v":""},null,"1",0,0,"0","",0,0,0,"0"]
[0,{"$f":"IF(入力シート!$I$3=\"\",\"\",入力シート!$I$3)","v":""},{"$f":"IF(入力シート!$R$3=\"\",\"\",入力シート!$R$3)","v":""},{"$f":"IF(入力シート!$AA$3=\"\",\"\",入力シート!$AA$3)","v":""},null,"1",0,0,"0","",0,0,0,"0"]
[0,{"$f":"IF(入力シート!$I$3=\"\",\"\",入力シート!$I$3)","v":""},{"$f":"IF(入力シート!$R$3=\"\",\"\",入力シート!$R$3)","v":""},{"$f":"IF(入力シート!$AA$3=\"\",\"\",入力シート!$AA$3)","v":""},null,"1",0,0,"0","",0,0,0,"0"]
[0,{"$f":"IF(入力シート!$I$3=\"\",\"\",入力シート!$I$3)","v":""},{"$f":"IF(入力シート!$R$3=\"\",\"\",入力シート!$R$3)","v":""},{"$f":"IF(入力シート!$AA$3=\"\",\"\",入力シート!$AA$3)","v":""},null,"1",0,0,"0","",0,0,0,"0"]
[0,{"$f":"IF(入力シート!$I$3=\"\",\"\",入力シート!$I$3)","v":""},{"$f":"IF(入力シート!$R$3=\"\",\"\",入力シート!$R$3)","v":""},{"$f":"IF(入力シート!$AA$3=\"\",\"\",入力シート!$AA$3)","v":""},null,"1",0,0,"0","",0,0,0,"0"]
[0,{"$f":"IF(入力シート!$I$3=\"\",\"\",入力シート!$I$3)","v":""},{"$f":"IF(入力シート!$R$3=\"\",\"\",入力シート!$R$3)","v":""},{"$f":"IF(入力シート!$AA$3=\"\",\"\",入力シート!$AA$3)","v":""},null,"1",0,0,"0","",0,0,0,"0"]
[0,{"$f":"IF(入力シート!$I$3=\"\",\"\",入力シート!$I$3)","v":""},{"$f":"IF(入力シート!$R$3=\"\",\"\",入力シート!$R$3)","v":""},{"$f":"IF(入力シート!$AA$3=\"\",\"\",入力シート!$AA$3)","v":""},null,"1",0,0,"0","",0,0,0,"0"]
[0,{"$f":"IF(入力シート!$I$3=\"\",\"\",入力シート!$I$3)","v":""},{"$f":"IF(入力シート!$R$3=\"\",\"\",入力シート!$R$3)","v":""},{"$f":"IF(入力シート!$AA$3=\"\",\"\",入力シート!$AA$3)","v":""},null,"1",0,0,"0","",0,0,0,"0"]
[0,{"$f":"IF(入力シート!$I$3=\"\",\"\",入力シート!$I$3)","v":""},{"$f":"IF(入力シート!$R$3=\"\",\"\",入力シート!$R$3)","v":""},{"$f":"IF(入力シート!$AA$3=\"\",\"\",入力シート!$AA$3)","v":""},null,"1",0,0,"0","",0,0,0,"0"]
[0,{"$f":"IF(入力シート!$I$3=\"\",\"\",入力シート!$I$3)","v":""},{"$f":"IF(入力シート!$R$3=\"\",\"\",入力シート!$R$3)","v":""},{"$f":"IF(入力シート!$AA$3=\"\",\"\",入力シート!$AA$3)","v":""},null,"1",0,0,"0","",0,0,0,"0"]
[0,{"$f":"IF(入力シート!$I$3=\"\",\"\",入力シート!$I$3)","v":""},{"$f":"IF(入力シート!$R$3=\"\",\"\",入力シート!$R$3)","v":""},{"$f":"IF(入力シート!$AA$3=\"\",\"\",入力シート!$AA$3)","v":""},null,"1",0,0,"0","",0,0,0,"0"]
[{"$f":"IF(MOD(ROW(),4)=0,INDIRECT(\"入力シート!A\"&7+((ROW()/4)-1)*38),A131)","v":0},{"$f":"IF(入力シート!$I$3=\"\",\"\",入力シート!$I$3)","v":""},{"$f":"IF(入力シート!$R$3=\"\",\"\",入力シート!$R$3)","v":""},{"$f":"IF(入力シート!$AA$3=\"\",\"\",入力シート!$AA$3)","v":""},null,{"$f":"IF(MOD(ROW(),4)=0,IF(INDIRECT(\"入力シート!AF\"&7+((ROW()/4)-1)*38)=\"単一回答\",\"0\",\"1\"),F131)","v":"1"},{"$f":"IF(MOD(ROW(),4)=0,INDIRECT(\"入力シート!F\"&7+((ROW()/4)-1)*38),G131)","v":0},{"$f":"IF(MOD(ROW(),4)=0,INDIRECT(\"入力シート!C\"&11+((ROW()/4)-1)*38),H131)","v":0},{"$f":"IF(MOD(ROW(),4)=0,IF(INDIRECT(\"入力シート!E\"&40+((ROW()/4)-1)*38)=\"利用する\",\"1\",\"0\"),I131)","v":"0"},{"$f":"IF(I132=\"1\",IF(MOD(ROW(),4)=0,INDIRECT(\"入力シート!N\"&40+((ROW()/4)-1)*38),J131),\"\")","v":""},0,{"$f":"IF(MOD(ROW(),4)=0,INDIRECT(\"入力シート!D\"&19+((ROW()/4)-1)*38),INDIRECT(\"入力シート!D\"&19+(ROUNDDOWN((ROW()/4)-1,0))*38+(MOD(ROW(),4)*5)))","v":0},{"$f":"IF(MOD(ROW(),4)=0,INDIRECT(\"入力シート!AH\"&19+((ROW()/4)-1)*38),INDIRECT(\"入力シート!AH\"&19+(ROUNDDOWN((ROW()/4)-1,0))*38+(MOD(ROW(),4)*5)))","v":0},{"$f":"IF(M132=\"正答\",\"1\",\"0\")","v":"0"}]
[0,{"$f":"IF(入力シート!$I$3=\"\",\"\",入力シート!$I$3)","v":""},{"$f":"IF(入力シート!$R$3=\"\",\"\",入力シート!$R$3)","v":""},{"$f":"IF(入力シート!$AA$3=\"\",\"\",入力シート!$AA$3)","v":""},null,"1",0,0,"0","",0,0,0,"0"]
[0,{"$f":"IF(入力シート!$I$3=\"\",\"\",入力シート!$I$3)","v":""},{"$f":"IF(入力シート!$R$3=\"\",\"\",入力シート!$R$3)","v":""},{"$f":"IF(入力シート!$AA$3=\"\",\"\",入力シート!$AA$3)","v":""},null,"1",0,0,"0","",0,0,0,"0"]
[0,{"$f":"IF(入力シート!$I$3=\"\",\"\",入力シート!$I$3)","v":""},{"$f":"IF(入力シート!$R$3=\"\",\"\",入力シート!$R$3)","v":""},{"$f":"IF(入力シート!$AA$3=\"\",\"\",入力シート!$AA$3)","v":""},null,"1",0,0,"0","",0,0,0,"0"]
[0,{"$f":"IF(入力シート!$I$3=\"\",\"\",入力シート!$I$3)","v":""},{"$f":"IF(入力シート!$R$3=\"\",\"\",入力シート!$R$3)","v":""},{"$f":"IF(入力シート!$AA$3=\"\",\"\",入力シート!$AA$3)","v":""},null,"1",0,0,"0","",0,0,0,"0"]
[0,{"$f":"IF(入力シート!$I$3=\"\",\"\",入力シート!$I$3)","v":""},{"$f":"IF(入力シート!$R$3=\"\",\"\",入力シート!$R$3)","v":""},{"$f":"IF(入力シート!$AA$3=\"\",\"\",入力シート!$AA$3)","v":""},null,"1",0,0,"0","",0,0,0,"0"]
[0,{"$f":"IF(入力シート!$I$3=\"\",\"\",入力シート!$I$3)","v":""},{"$f":"IF(入力シート!$R$3=\"\",\"\",入力シート!$R$3)","v":""},{"$f":"IF(入力シート!$AA$3=\"\",\"\",入力シート!$AA$3)","v":""},null,"1",0,0,"0","",0,0,0,"0"]
[0,{"$f":"IF(入力シート!$I$3=\"\",\"\",入力シート!$I$3)","v":""},{"$f":"IF(入力シート!$R$3=\"\",\"\",入力シート!$R$3)","v":""},{"$f":"IF(入力シート!$AA$3=\"\",\"\",入力シート!$AA$3)","v":""},null,"1",0,0,"0","",0,0,0,"0"]
[0,{"$f":"IF(入力シート!$I$3=\"\",\"\",入力シート!$I$3)","v":""},{"$f":"IF(入力シート!$R$3=\"\",\"\",入力シート!$R$3)","v":""},{"$f":"IF(入力シート!$AA$3=\"\",\"\",入力シート!$AA$3)","v":""},null,"1",0,0,"0","",0,0,0,"0"]
[0,{"$f":"IF(入力シート!$I$3=\"\",\"\",入力シート!$I$3)","v":""},{"$f":"IF(入力シート!$R$3=\"\",\"\",入力シート!$R$3)","v":""},{"$f":"IF(入力シート!$AA$3=\"\",\"\",入力シート!$AA$3)","v":""},null,"1",0,0,"0","",0,0,0,"0"]
[0,{"$f":"IF(入力シート!$I$3=\"\",\"\",入力シート!$I$3)","v":""},{"$f":"IF(入力シート!$R$3=\"\",\"\",入力シート!$R$3)","v":""},{"$f":"IF(入力シート!$AA$3=\"\",\"\",入力シート!$AA$3)","v":""},null,"1",0,0,"0","",0,0,0,"0"]
[0,{"$f":"IF(入力シート!$I$3=\"\",\"\",入力シート!$I$3)","v":""},{"$f":"IF(入力シート!$R$3=\"\",\"\",入力シート!$R$3)","v":""},{"$f":"IF(入力シート!$AA$3=\"\",\"\",入力シート!$AA$3)","v":""},null,"1",0,0,"0","",0,0,0,"0"]
[0,{"$f":"IF(入力シート!$I$3=\"\",\"\",入力シート!$I$3)","v":""},{"$f":"IF(入力シート!$R$3=\"\",\"\",入力シート!$R$3)","v":""},{"$f":"IF(入力シート!$AA$3=\"\",\"\",入力シート!$AA$3)","v":""},null,"1",0,0,"0","",0,0,0,"0"]
[0,{"$f":"IF(入力シート!$I$3=\"\",\"\",入力シート!$I$3)","v":""},{"$f":"IF(入力シート!$R$3=\"\",\"\",入力シート!$R$3)","v":""},{"$f":"IF(入力シート!$AA$3=\"\",\"\",入力シート!$AA$3)","v":""},null,"1",0,0,"0","",0,0,0,"0"]
[0,{"$f":"IF(入力シート!$I$3=\"\",\"\",入力シート!$I$3)","v":""},{"$f":"IF(入力シート!$R$3=\"\",\"\",入力シート!$R$3)","v":""},{"$f":"IF(入力シート!$AA$3=\"\",\"\",入力シート!$AA$3)","v":""},null,"1",0,0,"0","",0,0,0,"0"]
[0,{"$f":"IF(入力シート!$I$3=\"\",\"\",入力シート!$I$3)","v":""},{"$f":"IF(入力シート!$R$3=\"\",\"\",入力シート!$R$3)","v":""},{"$f":"IF(入力シート!$AA$3=\"\",\"\",入力シート!$AA$3)","v":""},null,"1",0,0,"0","",0,0,0,"0"]
[0,{"$f":"IF(入力シート!$I$3=\"\",\"\",入力シート!$I$3)","v":""},{"$f":"IF(入力シート!$R$3=\"\",\"\",入力シート!$R$3)","v":""},{"$f":"IF(入力シート!$AA$3=\"\",\"\",入力シート!$AA$3)","v":""},null,"1",0,0,"0","",0,0,0,"0"]
[0,{"$f":"IF(入力シート!$I$3=\"\",\"\",入力シート!$I$3)","v":""},{"$f":"IF(入力シート!$R$3=\"\",\"\",入力シート!$R$3)","v":""},{"$f":"IF(入力シート!$AA$3=\"\",\"\",入力シート!$AA$3)","v":""},null,"1",0,0,"0","",0,0,0,"0"]
[0,{"$f":"IF(入力シート!$I$3=\"\",\"\",入力シート!$I$3)","v":""},{"$f":"IF(入力シート!$R$3=\"\",\"\",入力シート!$R$3)","v":""},{"$f":"IF(入力シート!$AA$3=\"\",\"\",入力シート!$AA$3)","v":""},null,"1",0,0,"0","",0,0,0,"0"]
[0,{"$f":"IF(入力シート!$I$3=\"\",\"\",入力シート!$I$3)","v":""},{"$f":"IF(入力シート!$R$3=\"\",\"\",入力シート!$R$3)","v":""},{"$f":"IF(入力シート!$AA$3=\"\",\"\",入力シート!$AA$3)","v":""},null,"1",0,0,"0","",0,0,0,"0"]
[0,{"$f":"IF(入力シート!$I$3=\"\",\"\",入力シート!$I$3)","v":""},{"$f":"IF(入力シート!$R$3=\"\",\"\",入力シート!$R$3)","v":""},{"$f":"IF(入力シート!$AA$3=\"\",\"\",入力シート!$AA$3)","v":""},null,"1",0,0,"0","",0,0,0,"0"]
[0,{"$f":"IF(入力シート!$I$3=\"\",\"\",入力シート!$I$3)","v":""},{"$f":"IF(入力シート!$R$3=\"\",\"\",入力シート!$R$3)","v":""},{"$f":"IF(入力シート!$AA$3=\"\",\"\",入力シート!$AA$3)","v":""},null,"1",0,0,"0","",0,0,0,"0"]
[0,{"$f":"IF(入力シート!$I$3=\"\",\"\",入力シート!$I$3)","v":""},{"$f":"IF(入力シート!$R$3=\"\",\"\",入力シート!$R$3)","v":""},{"$f":"IF(入力シート!$AA$3=\"\",\"\",入力シート!$AA$3)","v":""},null,"1",0,0,"0","",0,0,0,"0"]
[0,{"$f":"IF(入力シート!$I$3=\"\",\"\",入力シート!$I$3)","v":""},{"$f":"IF(入力シート!$R$3=\"\",\"\",入力シート!$R$3)","v":""},{"$f":"IF(入力シート!$AA$3=\"\",\"\",入力シート!$AA$3)","v":""},null,"1",0,0,"0","",0,0,0,"0"]
[0,{"$f":"IF(入力シート!$I$3=\"\",\"\",入力シート!$I$3)","v":""},{"$f":"IF(入力シート!$R$3=\"\",\"\",入力シート!$R$3)","v":""},{"$f":"IF(入力シート!$AA$3=\"\",\"\",入力シート!$AA$3)","v":""},null,"1",0,0,"0","",0,0,0,"0"]
[0,{"$f":"IF(入力シート!$I$3=\"\",\"\",入力シート!$I$3)","v":""},{"$f":"IF(入力シート!$R$3=\"\",\"\",入力シート!$R$3)","v":""},{"$f":"IF(入力シート!$AA$3=\"\",\"\",入力シート!$AA$3)","v":""},null,"1",0,0,"0","",0,0,0,"0"]
[0,{"$f":"IF(入力シート!$I$3=\"\",\"\",入力シート!$I$3)","v":""},{"$f":"IF(入力シート!$R$3=\"\",\"\",入力シート!$R$3)","v":""},{"$f":"IF(入力シート!$AA$3=\"\",\"\",入力シート!$AA$3)","v":""},null,"1",0,0,"0","",0,0,0,"0"]
[0,{"$f":"IF(入力シート!$I$3=\"\",\"\",入力シート!$I$3)","v":""},{"$f":"IF(入力シート!$R$3=\"\",\"\",入力シート!$R$3)","v":""},{"$f":"IF(入力シート!$AA$3=\"\",\"\",入力シート!$AA$3)","v":""},null,"1",0,0,"0","",0,0,0,"0"]
[0,{"$f":"IF(入力シート!$I$3=\"\",\"\",入力シート!$I$3)","v":""},{"$f":"IF(入力シート!$R$3=\"\",\"\",入力シート!$R$3)","v":""},{"$f":"IF(入力シート!$AA$3=\"\",\"\",入力シート!$AA$3)","v":""},null,"1",0,0,"0","",0,0,0,"0"]
[0,{"$f":"IF(入力シート!$I$3=\"\",\"\",入力シート!$I$3)","v":""},{"$f":"IF(入力シート!$R$3=\"\",\"\",入力シート!$R$3)","v":""},{"$f":"IF(入力シート!$AA$3=\"\",\"\",入力シート!$AA$3)","v":""},null,"1",0,0,"0","",0,0,0,"0"]
[0,{"$f":"IF(入力シート!$I$3=\"\",\"\",入力シート!$I$3)","v":""},{"$f":"IF(入力シート!$R$3=\"\",\"\",入力シート!$R$3)","v":""},{"$f":"IF(入力シート!$AA$3=\"\",\"\",入力シート!$AA$3)","v":""},null,"1",0,0,"0","",0,0,0,"0"]
[0,{"$f":"IF(入力シート!$I$3=\"\",\"\",入力シート!$I$3)","v":""},{"$f":"IF(入力シート!$R$3=\"\",\"\",入力シート!$R$3)","v":""},{"$f":"IF(入力シート!$AA$3=\"\",\"\",入力シート!$AA$3)","v":""},null,"1",0,0,"0","",0,0,0,"0"]
[{"$f":"IF(MOD(ROW(),4)=0,INDIRECT(\"入力シート!A\"&7+((ROW()/4)-1)*38),A163)","v":0},{"$f":"IF(入力シート!$I$3=\"\",\"\",入力シート!$I$3)","v":""},{"$f":"IF(入力シート!$R$3=\"\",\"\",入力シート!$R$3)","v":""},{"$f":"IF(入力シート!$AA$3=\"\",\"\",入力シート!$AA$3)","v":""},null,{"$f":"IF(MOD(ROW(),4)=0,IF(INDIRECT(\"入力シート!AF\"&7+((ROW()/4)-1)*38)=\"単一回答\",\"0\",\"1\"),F163)","v":"1"},{"$f":"IF(MOD(ROW(),4)=0,INDIRECT(\"入力シート!F\"&7+((ROW()/4)-1)*38),G163)","v":0},{"$f":"IF(MOD(ROW(),4)=0,INDIRECT(\"入力シート!C\"&11+((ROW()/4)-1)*38),H163)","v":0},{"$f":"IF(MOD(ROW(),4)=0,IF(INDIRECT(\"入力シート!E\"&40+((ROW()/4)-1)*38)=\"利用する\",\"1\",\"0\"),I163)","v":"0"},{"$f":"IF(I164=\"1\",IF(MOD(ROW(),4)=0,INDIRECT(\"入力シート!N\"&40+((ROW()/4)-1)*38),J163),\"\")","v":""},0,{"$f":"IF(MOD(ROW(),4)=0,INDIRECT(\"入力シート!D\"&19+((ROW()/4)-1)*38),INDIRECT(\"入力シート!D\"&19+(ROUNDDOWN((ROW()/4)-1,0))*38+(MOD(ROW(),4)*5)))","v":0},{"$f":"IF(MOD(ROW(),4)=0,INDIRECT(\"入力シート!AH\"&19+((ROW()/4)-1)*38),INDIRECT(\"入力シート!AH\"&19+(ROUNDDOWN((ROW()/4)-1,0))*38+(MOD(ROW(),4)*5)))","v":0},{"$f":"IF(M164=\"正答\",\"1\",\"0\")","v":"0"}]
[0,{"$f":"IF(入力シート!$I$3=\"\",\"\",入力シート!$I$3)","v":""},{"$f":"IF(入力シート!$R$3=\"\",\"\",入力シート!$R$3)","v":""},{"$f":"IF(入力シート!$AA$3=\"\",\"\",入力シート!$AA$3)","v":""},null,"1",0,0,"0","",0,0,0,"0"]
[0,{"$f":"IF(入力シート!$I$3=\"\",\"\",入力シート!$I$3)","v":""},{"$f":"IF(入力シート!$R$3=\"\",\"\",入力シート!$R$3)","v":""},{"$f":"IF(入力シート!$AA$3=\"\",\"\",入力シート!$AA$3)","v":""},null,"1",0,0,"0","",0,0,0,"0"]
[0,{"$f":"IF(入力シート!$I$3=\"\",\"\",入力シート!$I$3)","v":""},{"$f":"IF(入力シート!$R$3=\"\",\"\",入力シート!$R$3)","v":""},{"$f":"IF(入力シート!$AA$3=\"\",\"\",入力シート!$AA$3)","v":""},null,"1",0,0,"0","",0,0,0,"0"]
[0,{"$f":"IF(入力シート!$I$3=\"\",\"\",入力シート!$I$3)","v":""},{"$f":"IF(入力シート!$R$3=\"\",\"\",入力シート!$R$3)","v":""},{"$f":"IF(入力シート!$AA$3=\"\",\"\",入力シート!$AA$3)","v":""},null,"1",0,0,"0","",0,0,0,"0"]
[0,{"$f":"IF(入力シート!$I$3=\"\",\"\",入力シート!$I$3)","v":""},{"$f":"IF(入力シート!$R$3=\"\",\"\",入力シート!$R$3)","v":""},{"$f":"IF(入力シート!$AA$3=\"\",\"\",入力シート!$AA$3)","v":""},null,"1",0,0,"0","",0,0,0,"0"]
[0,{"$f":"IF(入力シート!$I$3=\"\",\"\",入力シート!$I$3)","v":""},{"$f":"IF(入力シート!$R$3=\"\",\"\",入力シート!$R$3)","v":""},{"$f":"IF(入力シート!$AA$3=\"\",\"\",入力シート!$AA$3)","v":""},null,"1",0,0,"0","",0,0,0,"0"]
[0,{"$f":"IF(入力シート!$I$3=\"\",\"\",入力シート!$I$3)","v":""},{"$f":"IF(入力シート!$R$3=\"\",\"\",入力シート!$R$3)","v":""},{"$f":"IF(入力シート!$AA$3=\"\",\"\",入力シート!$AA$3)","v":""},null,"1",0,0,"0","",0,0,0,"0"]
[0,{"$f":"IF(入力シート!$I$3=\"\",\"\",入力シート!$I$3)","v":""},{"$f":"IF(入力シート!$R$3=\"\",\"\",入力シート!$R$3)","v":""},{"$f":"IF(入力シート!$AA$3=\"\",\"\",入力シート!$AA$3)","v":""},null,"1",0,0,"0","",0,0,0,"0"]
[0,{"$f":"IF(入力シート!$I$3=\"\",\"\",入力シート!$I$3)","v":""},{"$f":"IF(入力シート!$R$3=\"\",\"\",入力シート!$R$3)","v":""},{"$f":"IF(入力シート!$AA$3=\"\",\"\",入力シート!$AA$3)","v":""},null,"1",0,0,"0","",0,0,0,"0"]
[0,{"$f":"IF(入力シート!$I$3=\"\",\"\",入力シート!$I$3)","v":""},{"$f":"IF(入力シート!$R$3=\"\",\"\",入力シート!$R$3)","v":""},{"$f":"IF(入力シート!$AA$3=\"\",\"\",入力シート!$AA$3)","v":""},null,"1",0,0,"0","",0,0,0,"0"]
[0,{"$f":"IF(入力シート!$I$3=\"\",\"\",入力シート!$I$3)","v":""},{"$f":"IF(入力シート!$R$3=\"\",\"\",入力シート!$R$3)","v":""},{"$f":"IF(入力シート!$AA$3=\"\",\"\",入力シート!$AA$3)","v":""},null,"1",0,0,"0","",0,0,0,"0"]

{"sheet":"使い方","index":2,"n_rows":105,"n_cols":2,"rows_kept":105,"cut":false,"hidden":false,"merged":[[7,1,33,8]]}
[]
[null,"1．入力シート（1シート目）の基本情報に問題を登録したい講座の講座IDと講義IDを設定します。"]
[]
[]
[]
[]
[]
[]
[]
[]
[]
[]
[]
[]
[]
[]
[]
[]
[]
[]
[]
[]
[]
[]
[]
[]
[]
[]
[]
[]
[]
[]
[]
[]
[]
[null,"2．入力シートの黄色い部分を入力します。"]
[]
[]
[]
[]
[]
[]
[]
[]
[]
[]
[]
[]
[]
[]
[]
[]
[]
[]
[]
[]
[]
[]
[]
[null,"3．問題を複数登録する場合は、始まりの点線～終わりの点線までの行をコピーして「コピーしたセルの挿入」をします。"]
[]
[]
[]
[]
[]
[]
[]
[]
[]
[]
[]
[]
[]
[]
[]
[]
[]
[]
[]
[]
[]
[]
[]
[]
[]
[]
[]
[]
[]
[]
[null,"4．入力するとSheet「変換後CSV」に入力シートに登録した内容が自動的に取り込みフォーマットに変換されて表示されます。"]
[]
[]
[]
[]
[]
[]
[]
[]
[]
[]
[]
[]
[]
[null,"5．CSV出力ボタンをクリックすると、マクロと同じフォルダにCSVファイルが保存されます。"]